BEGIN:VCALENDAR
VERSION:2.0
PRODID:-//wp-events-plugin.com//6.6.3//EN
TZID:Europe/Rome
X-WR-TIMEZONE:Europe/Rome
BEGIN:VEVENT
UID:37@centroilponte.com
DTSTART;TZID=Europe/Rome:20190513T163000
DTEND;TZID=Europe/Rome:20190513T183000
DTSTAMP:20190415T151757Z
URL:https://centroilponte.com/eventi/webinar-fenomenologia-fattori-di-risc
 hio-e-inquadramento-diagnostico-della-dipendenza-sessuale-e-da-cybersesso/
SUMMARY:Fenomenologia\, fattori di rischio e inquadramento diagnostico dell
 a dipendenza sessuale e da cybersesso
DESCRIPTION:Webinar\nFenomenologia\, fattori di rischio e inquadramento dia
 gnostico della dipendenza sessuale e da cybersesso\n\n\n\n"A tu per tu con
  l'esperto" - a cura di Davide Dèttore\n\n13 maggio 2019\, orario 16.30-1
 8.30\nDurata\nIl webinar ha durata di 2 ore: 1 ore e 40 minuti di lezione 
 e 20 minuti di domande e risposte con il docente.\nObiettivi\nIl webinar 
 è mirato all’acquisizione di conoscenze relative a:\n\n	Fenomenologia e
  prevalenza.\n	Fattori di rischio.\n	Inquadramento diagnostico della dipen
 denza sessuale e da cybersesso.\n	Le conseguenze sul dipendente sessuale a
 dulto e adolescente\, sui partner\, sugli eventuali figli.\n	La comorbilit
 à.\n	Le fasi della dipendenza da cybersesso.\n\nDocente\nDavide Dèttore.
  Psicologo\, Psicoterapeuta\, Professore associato di Psicologia Clinica\,
  Presidente del Corso di Laurea Magistrale in Psicologia Clinica e della S
 alute e Neuropsicologia\, Docente di Psicologia e Psicopatologia del Compo
 rtamento Sessuale\, Dipartimento di Scienze della Salute\, Università deg
 li Studi di Firenze.\nDestinatari\nIl webinar è rivolto a psicoterapeuti\
 , psicoterapeuti in formazione\, psicologi e studenti di psicologia.\nModa
 lità di partecipazione\nUna volta acquistato il webinar riceverai un'e-ma
 il con le indicazioni per collegarti alla piattaforma gotowebinar dalla qu
 ale potrai seguire la diretta.\n\nIl webinar può essere seguito sia in di
 retta che in registrata. Entro 48 ore dalla diretta riceverai una email co
 n il link per poter vedere la registrazione del webinar quando e quante vo
 lte vorrai.\nQuota di partecipazione\nSconto valido fino al 23 aprile 2019
 \n\n	Iscrizione al webinar €35 (+ iva 22%) per un totale di €42\,7 an
 ziché €38 + (iva 22%)\n\nModalità di iscrizione\n\n	Online compilando 
 il modulo di iscrizione ed effettuando il pagamento con carta di credito.\
 n	Online compilando il modulo di iscrizione ed inserendo gli estremi del p
 agamento effettuato anticipatamente tramite bonifico bancario (Bonifico ba
 ncario intestato a Giunti Psychometrics S.r.l.\, BNL Ag. 2 Firenze\, C/C 
 2777\, Cod. IBAN IT57U0100502802000000002777).\n	Online compilando il modu
 lo di iscrizione ed effettuando il pagamento con carta del docente.\n\nLa 
 scadenza delle iscrizioni è il 13 maggio 2019.\n\nIn caso di annullamento
  del corso la quota versata sarà rimborsata salvo cause di forza maggiore
 . In caso di mancata partecipazione dell’iscritto per motivi non imputab
 ili a Giunti Psychometrics la quota non potrà essere rimborsata. Attenz
 ione\, gli acquisti effettuati con la carta del docente non sono rimborsab
 ili con denaro. Possono essere rimborsati solo con un buono di pari valore
  per l’acquisto di materiale previsto nella normativa del bonus.\n\n\n&n
 bsp\;\n\nLINK DIRETTO ALLA REGISTRAZIONE:\n\nhttps://www.giuntios.it/corsi
 -e-eventi/corso/webinar-fenomenologia-fattori-di-rischio-e-inquadramento-d
 iagnostico-della-dipendenza-sessuale-e-da-cybersesso
ATTACH;FMTTYPE=image/jpeg:https://centroilponte.com/wp-content/uploads/201
 9/04/webinar.jpg
CATEGORIES:Corso di formazione
END:VEVENT
BEGIN:VTIMEZONE
TZID:Europe/Rome
X-LIC-LOCATION:Europe/Rome
BEGIN:DAYLIGHT
DTSTART:20190331T030000
TZOFFSETFROM:+0100
TZOFFSETTO:+0200
TZNAME:CEST
END:DAYLIGHT
END:VTIMEZONE
END:VCALENDAR