BEGIN:VCALENDAR
VERSION:2.0
PRODID:-//wp-events-plugin.com//6.6.3//EN
TZID:Europe/Rome
X-WR-TIMEZONE:Europe/Rome
BEGIN:VEVENT
UID:20@centroilponte.com
DTSTART;TZID=Europe/Rome:20171213T190000
DTEND;TZID=Europe/Rome:20171213T203000
DTSTAMP:20171013T173620Z
URL:https://centroilponte.com/eventi/uomini-autori-di-violenza-aspetti-psi
 cologici-sociali-e-culturali/
SUMMARY:Uomini autori di violenza: aspetti psicologici\, sociali e cultural
 i
DESCRIPTION:Uomini autori di violenza: aspetti psicologici\, sociali e cult
 urali\n\nIn dialogo con Mario De Maglie\, del Centro di Ascolto Uomini Mal
 trattanti di Firenze\, verrà affrontata la problematica delle relazioni v
 iolente\, di come riconoscerle e come contrastarle.\n\nIl Centro di Ascolt
 o Uomini Maltrattanti CAM di Firenze è la prima realtà italiana che ha i
 niziato a occuparsi della presa in carico degli uomini autori di violenza\
 , a partire dal 2009.\nMario De Maglie è psicologo psicoterapeuta\, coord
 inatore del Cam\, blogger de Il Fatto Quotidiano\, co-autore del libro “
 In dialogo-Riflessioni a quattro mani sulla violenza domestica” edito pe
 r Settenove e scritto insieme alla collega Nadia Muscialini che da anni si
  occupa della tutela delle donne vittime di violenza.\nL’obiettivo dell
 ’incontro è parlare del lavoro che svolge il Centro\, ma anche sensibil
 izzare su tematiche che coinvolgono tantissime persone a livello professio
 nale e personale\, quali sono quelle del maltrattamento domestico e delle 
 questioni di genere. Capire quali sono i segnali che devono allertare in u
 na relazione e sapere cosa fare\, imparare a riconoscere e nominare la vio
 lenza\, anche quando nascosta o addirittura normalizzata\, saper riconosce
 re gli autori di violenza sono alcuni dei temi che verranno sviluppati in 
 uno spazio che vuole essere un dialogo aperto con il pubblico.\n\nL'incont
 ro è gratuito e la prenotazione obbligatoria a info@centroilponte.com 055
 .663992
ATTACH;FMTTYPE=image/jpeg:https://centroilponte.com/wp-content/uploads/201
 7/10/uomini-violenti.jpeg
CATEGORIES:Seminario
LOCATION:Centro Il Ponte\, via Scipione Ammirato 37\, Firenze\, FI\, 50136\
 , Italia
GEO:43.7704074;11.278145499999937
X-APPLE-STRUCTURED-LOCATION;VALUE=URI;X-ADDRESS=via Scipione Ammirato 37\, 
 Firenze\, FI\, 50136\, Italia;X-APPLE-RADIUS=100;X-TITLE=Centro Il Ponte:g
 eo:43.7704074,11.278145499999937
END:VEVENT
BEGIN:VTIMEZONE
TZID:Europe/Rome
X-LIC-LOCATION:Europe/Rome
BEGIN:STANDARD
DTSTART:20171029T020000
TZOFFSETFROM:+0200
TZOFFSETTO:+0100
TZNAME:CET
END:STANDARD
END:VTIMEZONE
END:VCALENDAR