BEGIN:VCALENDAR
VERSION:2.0
PRODID:-//wp-events-plugin.com//6.6.3//EN
TZID:Europe/Rome
X-WR-TIMEZONE:Europe/Rome
BEGIN:VEVENT
UID:58@centroilponte.com
DTSTART;TZID=Europe/Rome:20250206T190000
DTEND;TZID=Europe/Rome:20250306T203000
DTSTAMP:20250124T112436Z
URL:https://centroilponte.com/eventi/sex-work-oltre-i-pregiudizi-con-una-s
 ex-worker-in-presenza/
SUMMARY:Sex Work: oltre i pregiudizi (con una sex worker in presenza)
DESCRIPTION:Vi presentiamo un seminario unico nel suo genere\, dedicato al 
 mondo del sex working. Insieme a noi avremo una sex worker che condivider
 à la sua esperienza diretta\, permettendoci di esplorare le implicazioni 
 e gli stereotipi legati a questo lavoro spesso frainteso.\nScopriremo come
  il lavoro dei sex worker si intersechi con le sessualità più atipiche e
  i fetish\, aprendoci a una comprensione più profonda di queste realtà.\
 nPer studenti\, addetti ai lavori e chiunque sia interessato ad ampliare l
 e proprie conoscenze. Un'opportunità imperdibile per abbattere pregiudizi
  e ampliare le nostre conoscenze.\nL'evento sarà moderato da Andrea Farol
 fi\, esperto di sessualità kinky.\n\n&nbsp\;\n\nL’evento si svolgerà 
 in presenza presso il Centro Integrato di Sessuologia Clinica “Il Ponte
 ”\, a Firenze in Via Scipione Ammirato 37
ATTACH;FMTTYPE=image/jpeg:https://centroilponte.com/wp-content/uploads/202
 5/01/GIOVEDi-e1737717547463.png
LOCATION:Centro Integrato di Sessuologia Il Ponte\, Via Scipione Ammirato\,
  37\, Firenze\, Firenze\, 50136\, Italia
GEO:43.7704088;11.278197800000044
X-APPLE-STRUCTURED-LOCATION;VALUE=URI;X-ADDRESS=Via Scipione Ammirato\, 37\
 , Firenze\, Firenze\, 50136\, Italia;X-APPLE-RADIUS=100;X-TITLE=Centro Int
 egrato di Sessuologia Il Ponte:geo:43.7704088,11.278197800000044
END:VEVENT
BEGIN:VTIMEZONE
TZID:Europe/Rome
X-LIC-LOCATION:Europe/Rome
BEGIN:STANDARD
DTSTART:20241027T020000
TZOFFSETFROM:+0200
TZOFFSETTO:+0100
TZNAME:CET
END:STANDARD
END:VTIMEZONE
END:VCALENDAR