BEGIN:VCALENDAR
VERSION:2.0
PRODID:-//wp-events-plugin.com//6.6.3//EN
TZID:Europe/Rome
X-WR-TIMEZONE:Europe/Rome
BEGIN:VEVENT
UID:6@centroilponte.com
DTSTART;TZID=Europe/Rome:20151001T183000
DTEND;TZID=Europe/Rome:20151001T200000
DTSTAMP:20170711T145426Z
URL:https://centroilponte.com/eventi/sessualita-e-piacere-quanti-miti-da-s
 fatare/
SUMMARY:Sessualità e Piacere: quanti miti da sfatare
DESCRIPTION:Dal 28 settembre al 3 ottobre vi sarà il consueto appuntamento
  con la “Settimana del benessere sessuale” organizzata dalla Federazio
 ne Italiana di Sessuologia Scientifica FISS. In questa occasione\, il gior
 no giovedì 1 ottobre dalle ore 18.30 alle 20.00\, il Centro Integrato di
  Sessuologia “Il Ponte” organizzerà unincontro/seminario gratuito dal
  titolo “SESSUALITA’ e PIACERE: quanti miti da sfatare”\; in cui ver
 ranno affrontati alcuni dei più frequenti luoghi comuni e credenze errone
 e riguardanti il sesso e il piacere. Il seminario si terrà  presso il Ce
 ntro\, via Scipione Ammirato 37 – Firenze.\n\nL’incontro è aperto a t
 utte le persone interessate ad approfondire le tematiche di interesse psic
 o-sessuologico.\n\nLa partecipazione è gratuita ma è necessaria la preno
 tazione via mail info@centroilponte.com o tel. 055663992 essendo i posti l
 imitati.\n\nInoltre per questa settimana verranno messe a disposizione alc
 une ore di consulenza gratuita da parte dei sessuologi dott. Daniel Giunti
  e dott.ssa Michela Vancheri. Per prenotare una consulenza basterà inviar
 e una mail ai prefessionisti (riportati in locandina) oppure chiamare il n
 umero del Centro 055-663992.\n\n&nbsp\;
ATTACH;FMTTYPE=image/jpeg:https://centroilponte.com/wp-content/uploads/201
 5/09/2015-Seminario-sett1.jpg
CATEGORIES:Seminario
LOCATION:Centro il Ponte\, via Scipione Ammirato\, 37\, Firenze\, 50136\, I
 talia
GEO:43.7704074;11.278145499999937
X-APPLE-STRUCTURED-LOCATION;VALUE=URI;X-ADDRESS=via Scipione Ammirato\, 37\
 , Firenze\, 50136\, Italia;X-APPLE-RADIUS=100;X-TITLE=Centro il Ponte:geo:
 43.7704074,11.278145499999937
END:VEVENT
BEGIN:VTIMEZONE
TZID:Europe/Rome
X-LIC-LOCATION:Europe/Rome
BEGIN:DAYLIGHT
DTSTART:20150329T030000
TZOFFSETFROM:+0100
TZOFFSETTO:+0200
TZNAME:CEST
END:DAYLIGHT
END:VTIMEZONE
END:VCALENDAR