BEGIN:VCALENDAR
VERSION:2.0
PRODID:-//wp-events-plugin.com//6.6.3//EN
TZID:Europe/Rome
X-WR-TIMEZONE:Europe/Rome
BEGIN:VEVENT
UID:9@centroilponte.com
DTSTART;TZID=Europe/Rome:20160421T190000
DTEND;TZID=Europe/Rome:20160421T203000
DTSTAMP:20170711T145325Z
URL:https://centroilponte.com/eventi/sessualita-e-piacere-quanti-miti-da-s
 fatare-3-edizione/
SUMMARY:Sessualità e Piacere: quanti miti da sfatare. 3° edizione
DESCRIPTION:Si svolgerà presso il Centro Integrato di Sessuologia “IL PO
 NTE”\, il giorno giovedì 21 aprile dalle ore 19 alle ore 20.30\, il sem
 inario del ciclo “Sessualità e piacere quanti miti da sfatare” che af
 fronterà tematiche importanti e spesso fonte di confusione e fraintendime
 nti nella coppia e nel singolo\, ovvero il punto G come zona erogena per e
 ccellenza del piacere femminile e l‘autoerotismo ed i suoi significati n
 el ciclo di vita di una persona (e di una coppia).\n\nLa partecipazione è
  aperta sia ai professionisti che a tutte le persone interessate ad argome
 nti psico-sessuologici.\n\nL’ingresso è gratuito e la prenotazione obbl
 igatoriaall’indirizzo info@centroilponte.com o tel: 055-663992
ATTACH;FMTTYPE=image/jpeg:https://centroilponte.com/wp-content/uploads/201
 6/03/VOLANTINO-IL-PONTE.jpg
CATEGORIES:Seminario
LOCATION:Centro il Ponte\, via Scipione Ammirato\, 37\, Firenze\, 50136\, I
 talia
GEO:43.7704074;11.278145499999937
X-APPLE-STRUCTURED-LOCATION;VALUE=URI;X-ADDRESS=via Scipione Ammirato\, 37\
 , Firenze\, 50136\, Italia;X-APPLE-RADIUS=100;X-TITLE=Centro il Ponte:geo:
 43.7704074,11.278145499999937
END:VEVENT
BEGIN:VTIMEZONE
TZID:Europe/Rome
X-LIC-LOCATION:Europe/Rome
BEGIN:DAYLIGHT
DTSTART:20160327T030000
TZOFFSETFROM:+0100
TZOFFSETTO:+0200
TZNAME:CEST
END:DAYLIGHT
END:VTIMEZONE
END:VCALENDAR