BEGIN:VCALENDAR
VERSION:2.0
PRODID:-//wp-events-plugin.com//6.6.3//EN
TZID:Europe/Rome
X-WR-TIMEZONE:Europe/Rome
BEGIN:VEVENT
UID:7@centroilponte.com
DTSTART;TZID=Europe/Rome:20151112T190000
DTEND;TZID=Europe/Rome:20151112T203000
DTSTAMP:20170711T145543Z
URL:https://centroilponte.com/eventi/sessualita-e-piacere-quanti-miti-da-s
 fatare-2-edizione/
SUMMARY:Sessualità e Piacere: quanti miti da sfatare. 2° edizione
DESCRIPTION:“ALLA RICERCA DEL PUNTO G”\n&amp\;\n“AUTOEROTISMO: COSì 
 FAN TUTT*”\n&nbsp\;\n\nSi svolgerà presso il Centro Integrato di Sessuo
 logia “IL PONTE”\, il giorno giovedì 12 novembre dalle ore 19 alle or
 e 20.30\, il secondo seminario del ciclo “Sessualità e piacere quanti m
 iti da sfatare”. I miti che affronteremo in questa serata riguarderanno 
 il rinomato punto G come zona erogena per eccellenza del piacere femminile
  e la masturbazione maschile e femminile ed i suoi significati nel ciclo d
 i vita di una persona (e di una coppia).\n\nLa partecipazione è aperta si
 a ai professionisti che a tutte le persone interessate ad argomenti psico-
 sessuologici.\n\nL’ingresso è gratuito e la prenotazione obbligatoriaal
 l’indirizzo info@centroilponte.com o tel: 055-663992
ATTACH;FMTTYPE=image/jpeg:https://centroilponte.com/wp-content/uploads/201
 5/10/Nymphomaniac-2.jpg
CATEGORIES:Seminario
LOCATION:Centro il Ponte\, via Scipione Ammirato\, 37\, Firenze\, 50136\, I
 talia
GEO:43.7704074;11.278145499999937
X-APPLE-STRUCTURED-LOCATION;VALUE=URI;X-ADDRESS=via Scipione Ammirato\, 37\
 , Firenze\, 50136\, Italia;X-APPLE-RADIUS=100;X-TITLE=Centro il Ponte:geo:
 43.7704074,11.278145499999937
END:VEVENT
BEGIN:VTIMEZONE
TZID:Europe/Rome
X-LIC-LOCATION:Europe/Rome
BEGIN:STANDARD
DTSTART:20151025T020000
TZOFFSETFROM:+0200
TZOFFSETTO:+0100
TZNAME:CET
END:STANDARD
END:VTIMEZONE
END:VCALENDAR