BEGIN:VCALENDAR
VERSION:2.0
PRODID:-//wp-events-plugin.com//6.6.3//EN
TZID:Europe/Rome
X-WR-TIMEZONE:Europe/Rome
BEGIN:VEVENT
UID:3@centroilponte.com
DTSTART;TZID=Europe/Rome:20170614T190000
DTEND;TZID=Europe/Rome:20170614T203000
DTSTAMP:20170711T151313Z
URL:https://centroilponte.com/eventi/seminario-omogenitorialita-esperienze
 -a-confronto/
SUMMARY:Omogenitorialità – esperienze a confronto
DESCRIPTION:Firenze – 14 giugno orario 19 – 20.30. In questo seminario 
 verrà approfondita la tematica della genitorialità non eterosessuale.\n\
 nIn collaborazione con Rete Genitori Rainbow\, uno spazio di approfondimen
 to sull’esperienza diretta di un padre e una madre. Oggigiorno numerosi 
 studi mostrano come non vi sia una sostanziale differenza di funzionamento
  tra coppie omo e eterosessuali\, in termini di impegno reciproco\, soddis
 fazione\, stabilità e durata del legame\, distogliendo il focus dall’o
 rientamento sessuale come fattore discriminante e introducendo nuove inter
 rogativi nell’indagare le specificità delle coppie gay e lesbiche.\n\nC
 osa accade invece quando uno dei genitori passa dalla relazione con il par
 tner eterosessuale a quella con un partner dello stesso sesso? Come si mod
 ifica la relazione con i figli? La testimonianza diretta di genitori che h
 anno vissuto questo percorso sarà l’occasione per offrire una visione
  attuale sul fenomeno e rispondere ad alcuni interrogativi.\n\nIl seminar
 io è aperto a tutti gli interessati alla psicologia e sopratutto a coloro
  che lavorano nell’ambito delle relazioni di aiuto.\n\nLo svolgimento av
 verrà presso il Centro Integrato di Sessuologia Clinica “IL PONTE” n
 el giorno di mercoledì 14 giugno dalle ore 19 alle ore 20.30. \n\nL’
 ingresso è gratuito.\n\nLa prenotazione è obbligatoria all’indirizzo 
 info@centroilponte.com o tel: 055-663992.\n\nCentro Integrato di Sessuolog
 ia “IL PONTE”\, via Scipione Ammirato 37 – FIRENZE.\n\nIl seminario 
 è patrocinato dal Centro Italiano di Sessuologia (CIS) \n\n&nbsp\;\n\n&n
 bsp\;
ATTACH;FMTTYPE=image/jpeg:https://centroilponte.com/wp-content/uploads/201
 7/05/omos.png
CATEGORIES:Seminario
LOCATION:Centro il Ponte\, via Scipione Ammirato\, 37\, Firenze\, 50136\, I
 talia
GEO:43.7704074;11.278145499999937
X-APPLE-STRUCTURED-LOCATION;VALUE=URI;X-ADDRESS=via Scipione Ammirato\, 37\
 , Firenze\, 50136\, Italia;X-APPLE-RADIUS=100;X-TITLE=Centro il Ponte:geo:
 43.7704074,11.278145499999937
END:VEVENT
BEGIN:VTIMEZONE
TZID:Europe/Rome
X-LIC-LOCATION:Europe/Rome
BEGIN:DAYLIGHT
DTSTART:20170326T030000
TZOFFSETFROM:+0100
TZOFFSETTO:+0200
TZNAME:CEST
END:DAYLIGHT
END:VTIMEZONE
END:VCALENDAR