BEGIN:VCALENDAR
VERSION:2.0
PRODID:-//wp-events-plugin.com//6.6.3//EN
TZID:Europe/Rome
X-WR-TIMEZONE:Europe/Rome
BEGIN:VEVENT
UID:42@centroilponte.com
DTSTART;TZID=Europe/Rome:20190627T190000
DTEND;TZID=Europe/Rome:20190627T203000
DTSTAMP:20190528T113557Z
URL:https://centroilponte.com/eventi/quando-lorco-e-lei-le-donne-autrici-d
 i-abuso/
SUMMARY:Quando L'Orco è lei: le donne autrici di abuso
DESCRIPTION:In questo seminario parleremo insieme alla Dott.ssa Petrone del
  fenomeno delle donne abusatrici.
ATTACH;FMTTYPE=image/jpeg:https://centroilponte.com/wp-content/uploads/201
 9/05/pedofilia.jpg
CATEGORIES:Seminario
LOCATION:Centro Integrato di Sessuologia Il Ponte\, Via Scipione Ammirato\,
  37\, Firenze\, Firenze\, 50136\, Italia
GEO:43.7704088;11.278197800000044
X-APPLE-STRUCTURED-LOCATION;VALUE=URI;X-ADDRESS=Via Scipione Ammirato\, 37\
 , Firenze\, Firenze\, 50136\, Italia;X-APPLE-RADIUS=100;X-TITLE=Centro Int
 egrato di Sessuologia Il Ponte:geo:43.7704088,11.278197800000044
END:VEVENT
BEGIN:VTIMEZONE
TZID:Europe/Rome
X-LIC-LOCATION:Europe/Rome
BEGIN:DAYLIGHT
DTSTART:20190331T030000
TZOFFSETFROM:+0100
TZOFFSETTO:+0200
TZNAME:CEST
END:DAYLIGHT
END:VTIMEZONE
END:VCALENDAR