BEGIN:VCALENDAR
VERSION:2.0
PRODID:-//wp-events-plugin.com//6.6.3//EN
TZID:Europe/Rome
X-WR-TIMEZONE:Europe/Rome
BEGIN:VEVENT
UID:22@centroilponte.com
DTSTART;TZID=Europe/Rome:20180507T190000
DTEND;TZID=Europe/Rome:20180507T203000
DTSTAMP:20180410T111632Z
URL:https://centroilponte.com/eventi/presentazione-del-manuale-psicologia-
 e-psicopatologia-del-comportamento-sessuale/
SUMMARY: "Trattato di psicologia e psicopatologia del comportamento sessual
 e" incontro con l'autore
DESCRIPTION:Si terrà presso il Centro Integrato di Sessuologia Il Ponte la
  presentazione della versione aggiornata di uno dei più autorevoli volumi
  di sessuologia\, il "Trattato di Psicologia e Psicopatologia del Comporta
 mento Sessuale" di Dèttore con i contributi degli autori Antonelli\, Giun
 ti e Ristori\, Giunti Editore - 2018.\n\nNella serata verranno illustrate 
 tutte le novità in ambito sessuologico presenti nel manuale\, correlate d
 a esemplificazioni e casi clinici\, raccontate dall'autore stesso.\n\n[cap
 tion id="attachment_5542" align="alignleft" width="124"] Prof. Davide Dett
 ore[/caption]\n\nProf. Dettore: Psicologo\, Psicoterapeuta\, Professore A
 ssociato di Psicologia Clinica\, Docente di Psicologia e Psicopatologia d
 el Comportamento Sessuale presso Dipartimento di Scienze della Salute dell
 ’Università degli Studi di Firenze\, autore di numerosi libri in ambito
  psicologico e sessuologico.\n\n&nbsp\;\n\nL'incontro è gratuito e aperto
  a psicologi\, studenti\, agli operatori della salute e a tutte le persone
  interessate alla sessuologia. E' necessaria la prenotazione per telefono
  o email.\n\nPer Info e prenotazione gratuita dei posti per l'evento: info
 @centroilponte.com e 055-663992\n\n&nbsp\;\n\nPer ulteriori informazioni e
  acquisto del Manuale clicca qui
ATTACH;FMTTYPE=image/jpeg:https://centroilponte.com/wp-content/uploads/201
 8/03/volume-dettore--e1522058974408.jpg
LOCATION:Firenze\, via Scipione Ammirato\, 37\, Firenze\, FI\, 50136\, Ital
 ia
GEO:43.7704074;11.278145499999937
X-APPLE-STRUCTURED-LOCATION;VALUE=URI;X-ADDRESS=via Scipione Ammirato\, 37\
 , Firenze\, FI\, 50136\, Italia;X-APPLE-RADIUS=100;X-TITLE=Firenze:geo:43.
 7704074,11.278145499999937
END:VEVENT
BEGIN:VTIMEZONE
TZID:Europe/Rome
X-LIC-LOCATION:Europe/Rome
BEGIN:DAYLIGHT
DTSTART:20180325T030000
TZOFFSETFROM:+0100
TZOFFSETTO:+0200
TZNAME:CEST
END:DAYLIGHT
END:VTIMEZONE
END:VCALENDAR