BEGIN:VCALENDAR
VERSION:2.0
PRODID:-//wp-events-plugin.com//6.6.3//EN
TZID:Europe/Rome
X-WR-TIMEZONE:Europe/Rome
BEGIN:VEVENT
UID:13@centroilponte.com
DTSTART;TZID=Europe/Rome:20160213T100000
DTEND;TZID=Europe/Rome:20160213T130000
DTSTAMP:20170728T112519Z
URL:https://centroilponte.com/eventi/presentazione-del-libro-parafile-e-de
 vianza/
SUMMARY:Presentazione del libro "Parafile e devianza"
DESCRIPTION:Presentazione del nuovo libro di Fabrizio Quattrini: “Parafil
 ie e Devianza: psicologia e psicopatologia del comportamento sessuale atip
 ico” – Giunti Editore.\nIl seminario con dibattito si terrà sabato 13
  febbraio dalle ore 10 alle ore 13 presso il Polo Psicodinamiche di Prato.
 \nL’evento è aperto a tutti e in particolare a psicologi\, psicoterapeu
 tie a coloro che vogliono approfondire le tematiche legate alle parafilie 
 e alla sessualità atipica.\n\nLa presentazione vedrà la partecipazione d
 ell’autore Fabrizio Quattrini\, Presidente dell’Istituto di Sessuologi
 a Scientifica “IISS” di Roma\, Daniel Giunti Presidente del Centro In
 tegrato di Sessuologia “Il Ponte” di Firenze ed Ezio Benelli Direttore
  della Scuola di Psicoterapia Eric Fromm di Prato.
ATTACH;FMTTYPE=image/jpeg:https://centroilponte.com/wp-content/uploads/201
 6/02/parafilie-e-devianza.jpg
CATEGORIES:Dibattito,Seminario
LOCATION:Scuola Psicoterapia Eric Fromm\, Via Giotto\, 49\, 59100 Prato PO\
 , Prato\, Firenze\, 59100\, Toscana\, Italia
GEO:43.8779613;11.105299800000012
X-APPLE-STRUCTURED-LOCATION;VALUE=URI;X-ADDRESS=Via Giotto\, 49\, 59100 Pra
 to PO\, Prato\, Firenze\, 59100\, Toscana\, Italia;X-APPLE-RADIUS=100;X-TI
 TLE=Scuola Psicoterapia Eric Fromm:geo:43.8779613,11.105299800000012
END:VEVENT
BEGIN:VTIMEZONE
TZID:Europe/Rome
X-LIC-LOCATION:Europe/Rome
BEGIN:STANDARD
DTSTART:20151025T020000
TZOFFSETFROM:+0200
TZOFFSETTO:+0100
TZNAME:CET
END:STANDARD
END:VTIMEZONE
END:VCALENDAR