BEGIN:VCALENDAR
VERSION:2.0
PRODID:-//wp-events-plugin.com//6.6.3//EN
TZID:Europe/Rome
X-WR-TIMEZONE:Europe/Rome
BEGIN:VEVENT
UID:18@centroilponte.com
DTSTART;TZID=Europe/Rome:20180210T190000
DTEND;TZID=Europe/Rome:20180210T203000
DTSTAMP:20171214T104656Z
URL:https://centroilponte.com/eventi/piacere-maschile-f-quattrini-presenta
 zione-del-libro-incontro-lautore/
SUMMARY:"Il piacere maschile" - Presentazione e incontro con l'autore
DESCRIPTION:Presentazione e incontro con l'autore: Il Piacere Maschile\n\nS
 i terrà presso il Centro Integrato di Sessuologia Il Ponte la presentazio
 ne del primo libro della collana di sessuologia "Sesso: alla scoperta del 
 piacere" edita da Giunti Editore e curata dal Prof. Quattrini\, presidente
  dell'Istituto Italiano di Sessuologia Scientifica e docente presso l’Un
 iversità degli Studi de L’Aquila e l’Università “LUdeS” di Luga
 no.\n\n"L’essere umano di sesso maschile rischia\, più di quello femmin
 ile\, di rimanere ancorato ai tabù socio-culturali. La sessualità e il p
 iacere sono rappresentati troppo spesso in modo meccanico. Al riguardo l
 ’essere umano mette in atto una sessualità fine a se stessa perdendo di
  vista il “contatto” con l’esperienza corporea\, con il vissuto emot
 ivo e la consapevolezza dell’eros.\nIl volume vuole essere un valido st
 rumento per approfondire differenti aspetti dell’identità sessuale masc
 hile\, portando il lettore uomo ad apprendere dall’esperienza e migliora
 re le proprie conoscenze.\nSuggerendo spunti ed esercizi (self help) l’a
 utore vuole stimolare uomini e donne a rispondere alle numerose domande su
 lla differenza tra i generi\, l’intimità e il piacere sessuale. In una 
 veste ricca di esempi il testo si profila come compendio di educazione ses
 suale per adulti\, dove il gioco e il rispetto fanno da copione agli attor
 i del palcoscenico del piacere."\n\nL'incontro è aperto a psicologi\, stu
 denti\, agli operatori della salute e a tutte le persone interessate al mo
 ndo della psicologia e della sessualità umana.\n\nPer Info: info@centroil
 ponte.com e 055-663992
ATTACH;FMTTYPE=image/jpeg:https://centroilponte.com/wp-content/uploads/201
 7/07/piacere-maschile-coperta-3.jpg
CATEGORIES:Dibattito
LOCATION:Centro il Ponte\, via Scipione Ammirato\, 37\, Firenze\, 50136\, I
 talia
GEO:43.7704074;11.278145499999937
X-APPLE-STRUCTURED-LOCATION;VALUE=URI;X-ADDRESS=via Scipione Ammirato\, 37\
 , Firenze\, 50136\, Italia;X-APPLE-RADIUS=100;X-TITLE=Centro il Ponte:geo:
 43.7704074,11.278145499999937
END:VEVENT
BEGIN:VTIMEZONE
TZID:Europe/Rome
X-LIC-LOCATION:Europe/Rome
BEGIN:STANDARD
DTSTART:20171029T020000
TZOFFSETFROM:+0200
TZOFFSETTO:+0100
TZNAME:CET
END:STANDARD
END:VTIMEZONE
END:VCALENDAR