BEGIN:VCALENDAR
VERSION:2.0
PRODID:-//wp-events-plugin.com//6.6.3//EN
TZID:Europe/Rome
X-WR-TIMEZONE:Europe/Rome
BEGIN:VEVENT
UID:8@centroilponte.com
DTSTART;TZID=Europe/Rome:20160521T100000
DTEND;TZID=Europe/Rome:20160521T190000
DTSTAMP:20170711T133413Z
URL:https://centroilponte.com/eventi/omosessualita-e-relazioni-di-aiuto/
SUMMARY:Omosessualità e relazioni di aiuto: linee guida e strumenti di bas
 e
DESCRIPTION:Programma\n\n\nIl seminario teorico-esperienziale intende:\n\n
 – promuovere una riflessione critica e un approfondimento sui temi dell
 ’omofobia\, sui pregiudizi e gli stereotipi verso omosessualità e – o
 mogenitorialità\n\n- fornire linee guida e strumenti pratici per la condu
 zione di relazioni di aiuto con pazienti e utenti con orientamento sessual
 e non eterosessuale.\n\nMolti professionisti della relazione di aiuto non 
 sono esenti da pregiudizi negativi nei confronti dell’omosessualità che
  spesso proliferano tra le lacune di una formazione insufficiente. Diviene
  quindi importante possedere una conoscenza adeguata sui temi legati all
 ’orientamento sessuale\, in modo da padroneggiare gli strumenti per rico
 noscere e affrontare senza pregiudizi i temi che possono riguardare la vit
 a delle persone lesbiche\, gay e bisessuali e delle loro famiglie fornendo
  uno spazio di ascolto rispettoso e lo sviluppo di una buona alleanza tera
 peutica.\n\nLa formazione\, attraverso gli aspetti teorici e l’utilizzo 
 di esercitazioni pratiche e role-play\, ha la finalità di aiutare i profe
 ssionisti ad assumere approcci adeguati nell’instaurare relazioni di aiu
 to con utenti e pazienti non eterosessuali.\n\nDocenti: \n\nDott. Daniel G
 iunti\, Psicologo\, Psicoterapeuta\, Sessuologo accreditato EFS/ESSM\, Doc
 ente presso Scuole di Psicoterapia e Formazione Post-Universitaria\, e Con
 sulente presso Associazioni che si occupano della tutela dei diritti di pe
 rsone gay lesbiche bisessuali e transessuali (GLBT)\n\nDott.ssa Giulia Fio
 ravanti\, Psicologa\, Psicoterapeuta\, Sessuologa\, Docente presso Univers
 ità degli Studi di Firenze e Istituti di Formazione Post-Universitaria\n\
 nAl termine del seminario verrà rilasciato un Attestato di partecipazione
 \n\n\nDestinatari: Psicologi\, Psicoterapeuti\, Medici\, Educatori\, Couns
 elor\, e tutti gli operatori della relazione di aiuto\n\n\nOrari: sabato 1
 0.00-13.00/14.00-19.00\n\n Costi: per iscrizioni entro il 20 Aprile: 84 e
 uro (più iva al 22% totale 108 euro)\, per iscrizioni successive: 98 euro
  (più iva al 22% totale 120 euro)\n\n\nSede: Centro Integrato di Sessuolo
 gia “Il Ponte”\, Via Scipione Ammirato 37\, 50136 Firenze\n\nModalità
  di iscrizione e rimborso\n\nPer info o iscrizione cliccare qui: http://ww
 w.giuntios.it/corsi-e-eventi/evento/omosessualita-e-relazioni-di-aiuto-lin
 ee-guida-e-strumenti-di-base
ATTACH;FMTTYPE=image/jpeg:https://centroilponte.com/wp-content/uploads/201
 6/03/unnamed.jpg
CATEGORIES:Corso di formazione
LOCATION:Centro il Ponte\, via Scipione Ammirato\, 37\, Firenze\, 50136\, I
 talia
GEO:43.7704074;11.278145499999937
X-APPLE-STRUCTURED-LOCATION;VALUE=URI;X-ADDRESS=via Scipione Ammirato\, 37\
 , Firenze\, 50136\, Italia;X-APPLE-RADIUS=100;X-TITLE=Centro il Ponte:geo:
 43.7704074,11.278145499999937
END:VEVENT
BEGIN:VTIMEZONE
TZID:Europe/Rome
X-LIC-LOCATION:Europe/Rome
BEGIN:DAYLIGHT
DTSTART:20160327T030000
TZOFFSETFROM:+0100
TZOFFSETTO:+0200
TZNAME:CEST
END:DAYLIGHT
END:VTIMEZONE
END:VCALENDAR