BEGIN:VCALENDAR
VERSION:2.0
PRODID:-//wp-events-plugin.com//6.6.3//EN
TZID:Europe/Rome
X-WR-TIMEZONE:Europe/Rome
BEGIN:VEVENT
UID:52@centroilponte.com
DTSTART;TZID=Europe/Rome;VALUE=DATE:20240101
DTEND;TZID=Europe/Rome;VALUE=DATE:20250101
DTSTAMP:20240417T105145Z
URL:https://centroilponte.com/eventi/master-in-sessuologia-clinica-2/
SUMMARY:Master in Sessuologia Clinica versione online
DESCRIPTION:\n 	Direzione scientifica: Daniel Giunti e Davide Dèttore.\n 	
 204 ore di lezioni online.\n 	150 crediti ECM.\n\nIl master online in sess
 uologia clinica\, articolato in 3 moduli specialistici.\nPartirà con il M
 odulo A nel fornire una conoscenza di base rigorosa e completa delle diver
 se caratteristiche che afferiscono al comportamento sessuale tipico e atip
 ico\, garantendo una visione d'insieme dei molteplici aspetti che caratter
 izzano le diverse aree di intervento. Gli ambiti riguarderanno la sessuolo
 gia generale\, per una migliore comprensione clinica e fisiologica della s
 essualità umana\, le popolazioni specifiche dalla realtà LGBT (lesbiche\
 , gay\, bisessuali\, trans*) ad aree più specifiche e marginali\, come i 
 soggetti che soffrono di infezioni sessualmente trasmesse in particolare H
 IV\, e la sessualità atipica (dal bondage al BDSM\, a forme più relazion
 ali come il poliamore e l’asessualità) fornendo anche una cornice teori
 ca all’interno del continuum trasgressione – parafilia – sex offende
 r.\nSi proseguirà poi con il Modulo B dedicato alla consulenza applicata 
 alle tre principali aree tematiche (sessuologia generale\, sessualità del
 le popolazioni specifiche e sessualità atipica)\, affrontate in precedenz
 a\, fornendo strumenti pratici di natura consulenziale. Nell’ambito dell
 a sessuologia generale si forniranno gli elementi teorici e pratici necess
 ari per effettuare interventi di consulenza sessuale individuale\, di copp
 ia e dell’età evolutiva. Nell'area inerente le popolazioni specifiche\,
  verranno approfondite le tematiche relative agli interventi mirati a comb
 attere il bullismo omofobico nelle scuole\, e verrà approfondito il delic
 ato tema delle coppie coinvolte in percorsi di procreazione medicalmente a
 ssistita (PMA). Nell'area della sessualità atipica saranno approfondite a
 nche altre pratiche molto diffuse ma forse meno conosciute come lo scambis
 mo e il mondo dei sex workers. Saranno inoltre trattate le dipendenze sess
 uali (sesso\, pornografia e cybersex).\nPer completare il percorso formati
 vo\, il Modulo C fornirà le competenze sulle tecniche d’intervento appl
 icate alle principali disfunzioni sessuali (maschili e femminili)\, favore
 ndo l'acquisizione di conoscenze a carattere pratico per affrontare altre 
 problematiche nell'ambito della sessualità\, quali i disturbi parafilici 
 e la dipendenza da sex\, cybersex e pornografia. Nello specifico\, si forn
 iranno gli elementi teorici e pratici necessari per effettuare interventi 
 di trattamento sessuale in ambito individuale e di coppia\, sia nella sess
 ualità tipica che in popolazioni specifiche.\nFrequentando il master (mod
 uli A+B+C+Supervisioni 40h*) si otterrà la qualifica di "Sessuologo clini
 co" con la possibilità di essere inseriti nell'albo interno dell’Istitu
 to Italiano di Sessuologia Integrata. Al termine del Master sarà inoltre 
 possibile fare richiesta per essere selezionati come collaboratori della p
 iattaforma "miosessuologo.it".\n* al fine del conseguimento del titolo di 
 "Sessuologo Clinico" è necessario completare tutto il master comprensivo 
 delle 40 ore di supervisione previste. Il prezzo finale del master non com
 prende le 40 ore di supervisione.\n&nbsp\;\n\nPer informazioni o prenotazi
 oni potete andare a questo link oppure scrivere a assistenza@psicologia.io
ATTACH;FMTTYPE=image/jpeg:https://centroilponte.com/wp-content/uploads/202
 1/05/Banner-orizzontali-promo.png
END:VEVENT
BEGIN:VTIMEZONE
TZID:Europe/Rome
X-LIC-LOCATION:Europe/Rome
BEGIN:STANDARD
DTSTART:20231029T020000
TZOFFSETFROM:+0200
TZOFFSETTO:+0100
TZNAME:CET
END:STANDARD
BEGIN:DAYLIGHT
DTSTART:20240331T030000
TZOFFSETFROM:+0100
TZOFFSETTO:+0200
TZNAME:CEST
END:DAYLIGHT
BEGIN:STANDARD
DTSTART:20241027T020000
TZOFFSETFROM:+0200
TZOFFSETTO:+0100
TZNAME:CET
END:STANDARD
END:VTIMEZONE
END:VCALENDAR