BEGIN:VCALENDAR
VERSION:2.0
PRODID:-//wp-events-plugin.com//6.6.3//EN
TZID:Europe/Rome
X-WR-TIMEZONE:Europe/Rome
BEGIN:VEVENT
UID:34@centroilponte.com
DTSTART;TZID=Europe/Rome:20190524T090000
DTEND;TZID=Europe/Rome:20190525T180000
DTSTAMP:20190207T120442Z
URL:https://centroilponte.com/eventi/le-parafilie-e-i-disturbi-parafilici/
SUMMARY:Le parafilie e i disturbi parafilici
DESCRIPTION:Questo corso affronta il nuovo inquadramento clinico e psicolog
 ico delle parafilie e dei disturbi parafilici\, sottolineandone pregi e di
 fficoltà. Inoltre delinea i vari percorsi psicologici che possono portare
  all’acting out di comportamenti parafilici a valenza non solo psicopato
 logica ma anche di reato penale\; infine espone le linee generali di tratt
 amento delle condizioni parafiliche che richiedono un intervento terapeuti
 co.
ATTACH;FMTTYPE=image/jpeg:https://centroilponte.com/wp-content/uploads/201
 9/02/dettore-parafilie.jpg
CATEGORIES:Corso di formazione
LOCATION:Centro il Ponte\, via Scipione Ammirato\, 37\, Firenze\, 50136\, I
 talia
GEO:43.7704074;11.278145499999937
X-APPLE-STRUCTURED-LOCATION;VALUE=URI;X-ADDRESS=via Scipione Ammirato\, 37\
 , Firenze\, 50136\, Italia;X-APPLE-RADIUS=100;X-TITLE=Centro il Ponte:geo:
 43.7704074,11.278145499999937
END:VEVENT
BEGIN:VTIMEZONE
TZID:Europe/Rome
X-LIC-LOCATION:Europe/Rome
BEGIN:DAYLIGHT
DTSTART:20190331T030000
TZOFFSETFROM:+0100
TZOFFSETTO:+0200
TZNAME:CEST
END:DAYLIGHT
END:VTIMEZONE
END:VCALENDAR