BEGIN:VCALENDAR
VERSION:2.0
PRODID:-//wp-events-plugin.com//6.6.3//EN
TZID:Europe/Rome
X-WR-TIMEZONE:Europe/Rome
BEGIN:VEVENT
UID:28@centroilponte.com
DTSTART;TZID=Europe/Rome:20181201T090000
DTEND;TZID=Europe/Rome:20181202T183000
DTSTAMP:20181026T085748Z
URL:https://centroilponte.com/eventi/labuso-sessuale-sui-minori-inquadrame
 nto-clinico-e-psicologico/
SUMMARY:L’abuso sessuale sui minori: inquadramento clinico e trattamento
DESCRIPTION:Questo corso affronta l’inquadramento clinico e psicologico d
 ei minori vittime di abuso sessuale e quello dei responsabili di tali comp
 ortamenti/reati. Inoltre delinea i vari percorsi psicologici che possono p
 ortare all’abuso sessuale sui minori e i fattori di rischio e la tipolog
 ia degli esiti psicopatologici nei minori vittime di abuso sessuale\; infi
 ne espone le linee generali di trattamento dei minori vittime di abuso ses
 suale e dei responsabili di tali abusi.\nObiettivi\n\n	Trasferire la capac
 ità di elaborare un inquadramento differenziale fra abusatori sessuali di
  minori con o senza orientamento pedofilico\, tenendo presente le caratter
 istiche delle varie tipologie di questi soggetti.\n	Essere in grado di evi
 denziare i fattori di rischio e quelli di resilienza per effettuare interv
 enti preventivi e terapeutici rispetto all’abuso sessuale sui minori.\n	
 Permettere l’acquisizione di conoscenze e capacità atte a progettare e 
 realizzare un intervento psicoterapeutico mirato ai minori vittime di abus
 o sessuale in funzione delle esigenze di ciascuno.\n	Permettere l’acquis
 izione di conoscenze e capacità atte a progettare e realizzare un interve
 nto di prevenzione della recidiva a seconda delle peculiari caratteristich
 e di ogni responsabile di abuso sessuale sui minori.\n\n&nbsp\;\nDurata\nI
 l corso ha una durata di 16 ore suddivise in 2 giornate da 8 ore ciascu
 na.\nProgramma\nPrima giornata (9.00-13.00\; 14.00-18.30)\n\n8.30-9.00 Reg
 istrazione partecipanti\n\n	Spiegazione delle differenze fra abusatori ses
 suali di minori e pedofili.\n	Rassegna delle principali tipologie di abusa
 tori sessuali di minori.\n	Le teorie relative ai possibili percorsi in gra
 do di portare all’abuso sessuale sui minori\n	Principi generali del trat
 tamento dei responsabili di abuso sessuale sui minori.\n	La prevenzione de
 lla ricaduta.\n	Il Good Lives Model.\n	Applicazioni e limiti.\n\nSeconda g
 iornata (9.00-13.00\; 14.00-18.30)\n\n	I fattori di rischio di abuso sessu
 ale sui minori e i fattori di resilienza.\n	Conseguenze psicologiche e psi
 copatologiche dell’abuso sessuale sui minori.\n	Principi generali del tr
 attamento dei minori vittime di abuso sessuale.\n	La psicoeducazione sull
 ’abuso sessuale.\n	L’approccio agli aspetti PTSD.\n	La gestione dell
 ’attribuzione della colpa.\n	La prevenzione del riabuso.\n	La gestione d
 el lutto.\n	I comportamenti esternalizzanti.\n\n18.00-18.30 Somministrazio
 ne del questionario finale ECM\nDocente\nDavide Dèttore. Psicologo\, Psic
 oterapeuta\, Professore associato di Psicologia Clinica\, Docente di Psico
 logia e Psicopatologia del Comportamento Sessuale presso il Dipartimento d
 i Scienze della Salute dell’Università degli Studi di Firenze.\nDestina
 tari e accreditamenti\nIl corso rilascia 16 crediti ECM per le seguenti
  figure professionali: psicologi\, psicoterapeuti\, psichiatri\, medic
 i.\n\nGiunti Psychometrics è provider ECM n. 131.\n\nAi fini del consegui
 mento dei crediti ECM\, in base alla normativa vigente\, è obbligatoria l
 a frequenza del 90%.\n\nAl termine del corso sarà rilasciato l'attestato 
 di frequenza a tutti i partecipanti.\nQuote di partecipazione\nSconto del 
 20% valido fino al 15 ottobre 2018\n\n	Iscrizione singola con ECM €216*
  anziché €270\n	Iscrizione singola senza ECM €172* anziché €216\
 n\n*Esente IVA art. 10 com. 20\nModalità di iscrizione\n\n	Online compila
 ndo il modulo di iscrizione ed effettuando il pagamento con carta di credi
 to.\n	Online compilando il modulo di iscrizione ed inserendo gli estremi d
 el pagamento effettuato anticipatamente tramite bonifico bancario (Bonific
 o bancario intestato a Giunti Psychometrics S.r.l.\, BNL Ag. 2 Firenze\, 
 C/C 2777\, Cod. IBAN IT57U0100502802000000002777).\n	Per i dipendenti che 
 richiedono fatturazione al proprio ente pubblico di appartenenza: compilar
 e il modulo di iscrizione online\, selezionare la fatturazione ad ente pub
 blico\, generare il pdf di riepilogo e inviarlo firmato per accettazione v
 ia e-mail all'indirizzo info@giuntios.it. Il pagamento verrà effettuato 
 a ricevimento fattura.\n\nLa scadenza delle iscrizioni è il 30 novembre 
 2018.\n\nPer iscriversi cliccare qui
ATTACH;FMTTYPE=image/jpeg:https://centroilponte.com/wp-content/uploads/201
 8/10/davide-2.jpg
CATEGORIES:Corso di formazione
LOCATION:Centro Integrato di Sessuologia Il Ponte\, Via Scipione Ammirato\,
  37\, Firenze\, Firenze\, 50136\, Italia
GEO:43.7704088;11.278197800000044
X-APPLE-STRUCTURED-LOCATION;VALUE=URI;X-ADDRESS=Via Scipione Ammirato\, 37\
 , Firenze\, Firenze\, 50136\, Italia;X-APPLE-RADIUS=100;X-TITLE=Centro Int
 egrato di Sessuologia Il Ponte:geo:43.7704088,11.278197800000044
END:VEVENT
BEGIN:VTIMEZONE
TZID:Europe/Rome
X-LIC-LOCATION:Europe/Rome
BEGIN:STANDARD
DTSTART:20181028T020000
TZOFFSETFROM:+0200
TZOFFSETTO:+0100
TZNAME:CET
END:STANDARD
END:VTIMEZONE
END:VCALENDAR