BEGIN:VCALENDAR
VERSION:2.0
PRODID:-//wp-events-plugin.com//6.6.3//EN
TZID:Europe/Rome
X-WR-TIMEZONE:Europe/Rome
BEGIN:VEVENT
UID:10@centroilponte.com
DTSTART;TZID=Europe/Rome:20170316T190000
DTEND;TZID=Europe/Rome:20170316T203000
DTSTAMP:20170711T150151Z
URL:https://centroilponte.com/eventi/la-violenza-sulle-donne-aspetti-psico
 logici-e-legali/
SUMMARY:La violenza sulle donne: aspetti psicologici e legali
DESCRIPTION:La violenza sulle donne\n\nIl seminario ha lo scopo di sensibil
 izzare e mostrare e spiegare le varie forme che può assumere questo tipo 
 di violenza. Verranno approfonditi gli aspetti psicologici e le implicazio
 ni legali coinvolte in tale fenomeno.\n\nCondurranno il seminario le dott
 oresse Egidia Fanni\, psicologa\, e Laura Piras\, appartenente alle forze 
 dell’ordine. Lo svolgimento avverrà presso il Centro Integrato di Sess
 uologia Clinica “IL PONTE” nel giorno di giovedì 16 marzo dalle ore
  19 alle ore 20.30. La partecipazione è aperta sia ai professionisti che
  a tutte le persone interessate ad argomenti psico-sessuologici.\n\nL’in
 gresso è gratuito. \n\nLa prenotazione è obbligatoria all’indirizzo in
 fo@centroilponte.com o tel: 055-663992.
ATTACH;FMTTYPE=image/jpeg:https://centroilponte.com/wp-content/uploads/201
 7/02/sfondo-post-evento-con-scritte.jpg
CATEGORIES:Seminario
LOCATION:Centro il Ponte\, via Scipione Ammirato\, 37\, Firenze\, 50136\, I
 talia
GEO:43.7704074;11.278145499999937
X-APPLE-STRUCTURED-LOCATION;VALUE=URI;X-ADDRESS=via Scipione Ammirato\, 37\
 , Firenze\, 50136\, Italia;X-APPLE-RADIUS=100;X-TITLE=Centro il Ponte:geo:
 43.7704074,11.278145499999937
END:VEVENT
BEGIN:VTIMEZONE
TZID:Europe/Rome
X-LIC-LOCATION:Europe/Rome
BEGIN:STANDARD
DTSTART:20161030T020000
TZOFFSETFROM:+0200
TZOFFSETTO:+0100
TZNAME:CET
END:STANDARD
END:VTIMEZONE
END:VCALENDAR