BEGIN:VCALENDAR
VERSION:2.0
PRODID:-//wp-events-plugin.com//6.6.3//EN
TZID:Europe/Rome
X-WR-TIMEZONE:Europe/Rome
BEGIN:VEVENT
UID:27@centroilponte.com
DTSTART;TZID=Europe/Rome:20181020T090000
DTEND;TZID=Europe/Rome:20181021T183000
DTSTAMP:20180912T223618Z
URL:https://centroilponte.com/eventi/la-violenza-genere/
SUMMARY:La Violenza di Genere
DESCRIPTION:Violenza di genere: teoria e clinica del trattamento delle vitt
 ime e degli autori.\n\nIl corso affronta le problematiche relative alla vi
 olenza di genere\, un fenomeno purtroppo sempre più frequente nel contest
 o culturale nel quale viviamo. Durante il weekend formativo verrà propost
 a una disamina approfondita del fenomeno\, nei suoi aspetti sociali\, fami
 liari e clinici e verranno forniti specifici strumenti di intervento per l
 a presa in carico di vittime e autori di violenza. In entrambe le giornate
 \, una dedicata alle donne vittime e l’altra agli uomini autori\, sono p
 revisti approfondimenti teorico-pratici\, con particolare attenzione agli 
 aspetti esperienziali personali dei corsisti in un contesto interattivo e 
 partecipativo.\n\nOBIETTIVI\n- Comprendere gli aspetti sociali\, psicologi
 ci e psicopatologici del fenomeno.\n- Acquisire le metodologie per gestire
  l’intervento con le vittime e dell’adulto autore di violenza.\n\nGli 
 obiettivi verranno raggiunti attraverso lo studio dei casi\, le esercitazi
 oni e gli approfondimenti.\n\nDURATA\nIl corso ha una durata di 16 ore sud
 divise in 2 giornate da 8 ore ciascuna.\n\nPROGRAMMA\nPrima giornata (9.00
 -13.00\; 14.00-18.30) - Dott.ssa Stefania Valanzano\n\n- Genere e identit
 à di genere: maschile e femminile nelle culture tradizionali e nella soci
 età postmoderna. Immagini stimolo ed esercitazioni con dibattito.\n- La v
 iolenza di genere come prodotto socioculturale. Il femminicidio.\n- Violen
 za domestica: dinamiche\, trasmissione transgenerazionale\, stili di attac
 camento e relazioni violente.\n- La violenza assistita: i minori nella fam
 iglia violenta.\n- Cenni di neurofisiologia della violenza\, della paura e
  del trauma.\nI tipi di violenza.\n- Le conseguenze sulla vittima a breve 
 e a lungo termine.\n- La dimensione duale: discriminare dipendenza affetti
 va e manipolazione perversa.\n- Il trattamento della vittima: specificità
  della clinica con le donne che subiscono violenza. Strumenti specifici: l
 ’uso dell’EMDR.\n- Modificazioni del setting. Fare rete: i professioni
 sti coinvolti.\n- Il sostegno alla vittima: riconoscimento\, empowerment\,
  legittimizzazione\, ricostruzione dell’autonomia.\n- Casi clinici e ese
 rcitazioni*.\n- Supervisione di gruppo*\n\n* i corsisti potranno inviare p
 rima del corso un breve resoconto di un caso clinico che desiderano venga 
 discusso in supervisione.\n\nSeconda giornata (9.00-13.00\; 14.00-18.30) -
  Dott. Mario De Maglie\n\n- Mascolinità: emozioni\, vulnerabilità e ster
 eotipi di genere.\n- Breve presentazione dei modelli di servizi per uomini
  autori di violenza e coordinamento nazionale.\n- Video testimonianze di u
 omini.\n- Chi sono gli uomini autori di violenza\, aspetti sociali e clini
 ci\, quattro possibili profili della richiesta di aiuto.\n- Metodologia di
  lavoro con gli uomini autori di violenza-colloqui individuali di accoglie
 nza e lavoro di gruppo.\n- Demo di colloquio\, esercitazioni\, presentazio
 ne di casi clinici.\n\nDOCENTI:\n\n\nStefania Valanzano. Psicologa\, Psico
 terapeuta Psicoanalitica (SIPP)\, Sessuologa Clinica\, Esperta in riproduz
 ione assistita\, violenza verso le donne\, trattamento del trauma (EMDR)\,
  Collaboratrice del Centro Antiviolenza Irene (La Spezia)\, Curatrice del 
 volume "Donne che sbattono contro le porte. Riflessioni su violenze e stal
 king".\n\nMario De Maglie. Psicologo\, Psicoterapeuta\, Coordinatore Clini
 co e Formatore del CAM - Centro di Ascolto Uomini Maltrattanti (Firenze)\,
  Blogger de “Il Fatto Quotidiano”\, Esperto in violenza di genere nell
 a realtà scolastica e carceraria.\n\n&nbsp\;\n\nDESTINATARI E ACCREDITAME
 NTI\nIl corso rilascia 16 crediti ECM per le seguenti figure professionali
 : psicologi\, psicoterapeuti\, psichiatri\, medici.\nGiunti Psychometrics 
 è provider ECM n. 131.\n\nQUOTA DI PARTECIPAZIONE\n€270*\n\n*Esente IVA
  art. 10 com. 20\n\nPer iscrizioni e informazioni visita la pagina: https
 ://www.giuntios.it/corsi-e-eventi/corso/violenza-di-genere
ATTACH;FMTTYPE=image/jpeg:https://centroilponte.com/wp-content/uploads/201
 8/09/VIOLENZA-DI-GENERE.jpg
CATEGORIES:Corso di formazione
LOCATION:Centro il Ponte\, via Scipione Ammirato\, 37\, Firenze\, 50136\, I
 talia
GEO:43.7704074;11.278145499999937
X-APPLE-STRUCTURED-LOCATION;VALUE=URI;X-ADDRESS=via Scipione Ammirato\, 37\
 , Firenze\, 50136\, Italia;X-APPLE-RADIUS=100;X-TITLE=Centro il Ponte:geo:
 43.7704074,11.278145499999937
END:VEVENT
BEGIN:VTIMEZONE
TZID:Europe/Rome
X-LIC-LOCATION:Europe/Rome
BEGIN:DAYLIGHT
DTSTART:20180325T030000
TZOFFSETFROM:+0100
TZOFFSETTO:+0200
TZNAME:CEST
END:DAYLIGHT
END:VTIMEZONE
END:VCALENDAR