BEGIN:VCALENDAR
VERSION:2.0
PRODID:-//wp-events-plugin.com//6.6.3//EN
TZID:Europe/Rome
X-WR-TIMEZONE:Europe/Rome
BEGIN:VEVENT
UID:24@centroilponte.com
DTSTART;TZID=Europe/Rome:20180627T190000
DTEND;TZID=Europe/Rome:20180627T203000
DTSTAMP:20180611T111401Z
URL:https://centroilponte.com/eventi/la-dipendenza-affettiva-storie-di-amo
 ri-malati/
SUMMARY:La dipendenza affettiva: storie di amori malati
DESCRIPTION:Si terrà presso il Centro Integrato di Sessuologia Il Ponte un
  seminario dedicato al tema della dipendenza affettiva\, con la partecipaz
 ione del Prof. Paolo Antonelli.\n\nLe relazioni sono importanti per tutti 
 noi\, perché è nella natura dell’essere umano entrare in relazione e c
 rescere attraverso di essa. Ognuno di noi è dipendente in qualche misura 
 dagli altri che ci circondano andando alla ricerca di bisogno di approvazi
 one\, empatia\, ammirazione per sostenere e regolare la propria autostima.
  A tal riguardo si parla di dipendenza affettiva\, definita come una “fo
 rma patologica di amore caratterizzata da una costante assenza di reciproc
 ità all’interno della relazione di coppia“\, in cui uno dei due rives
 te il ruolo di donatore a senso unico. In tal senso la dipendenza affettiv
 a può divenire un modo patologico di vivere le relazioni\, in cui la pers
 ona dipendente arriva a negare i propri bisogni pur di non perdere il part
 ner\, rinunciando a quello che è il suo spazio vitale. Infatti il fattore
  principale che spesso è alla base della dipendenza affettiva è la scars
 a autostima. Il cambiamento all’interno di tale prospettiva è caratteri
 zzato inizialmente da uno sforzo di volontà e costanza\, al fine di prend
 ersi cura di se stessi e riuscendo ad amare gli altri senza riserve.\n\nL
 ’incontro è aperto a psicologi\, studenti\, agli operatori della salute
  e a tutte le persone interessate al mondo della psicologia e della sessua
 lità umana.\n\nPer Info e prenotazioni:\n\ninfo@centroilponte.com\n\n0556
 63992
ATTACH;FMTTYPE=image/jpeg:https://centroilponte.com/wp-content/uploads/201
 8/05/la-dipendenza-affettiva-e1507585732235.jpeg
CATEGORIES:Dibattito,Seminario
LOCATION:Centro il Ponte\, via Scipione Ammirato\, 37\, Firenze\, 50136\, I
 talia
GEO:43.7704074;11.278145499999937
X-APPLE-STRUCTURED-LOCATION;VALUE=URI;X-ADDRESS=via Scipione Ammirato\, 37\
 , Firenze\, 50136\, Italia;X-APPLE-RADIUS=100;X-TITLE=Centro il Ponte:geo:
 43.7704074,11.278145499999937
END:VEVENT
BEGIN:VTIMEZONE
TZID:Europe/Rome
X-LIC-LOCATION:Europe/Rome
BEGIN:DAYLIGHT
DTSTART:20180325T030000
TZOFFSETFROM:+0100
TZOFFSETTO:+0200
TZNAME:CEST
END:DAYLIGHT
END:VTIMEZONE
END:VCALENDAR