BEGIN:VCALENDAR
VERSION:2.0
PRODID:-//wp-events-plugin.com//6.6.3//EN
TZID:Europe/Rome
X-WR-TIMEZONE:Europe/Rome
BEGIN:VEVENT
UID:26@centroilponte.com
DTSTART;TZID=Europe/Rome:20181014T173000
DTEND;TZID=Europe/Rome:20181014T193000
DTSTAMP:20181004T095044Z
URL:https://centroilponte.com/eventi/jack-drescher-trattamento-di-bambini-
 e-adolescenti-transgender/
SUMMARY:Jack Drescher: Trattamento di bambini e adolescenti transgender
DESCRIPTION:Alla luce delle importanti modifiche introdotte nei principali 
 manuali diagnostici internazionali in tema di disforia e identità di gene
 re\, molte sono le implicazioni su vari piani: medico\, psicologico\, soci
 ale\, etico ed economico. Tali implicazioni diventano particolarmente comp
 lesse e delicate quando si parla di minori.\n\nAttraverso la presente Lect
 io Magistralis\, tenuta da uno dei massimi esperti sull'argomento\, avremo
  l'opportunità di comprendere meglio tale tematica\, le modifiche e gli a
 ggiornamenti delle diagnosi di genere nei bambini e negli adolescenti e le
  controversie ad essi associate\, le diverse proposte di trattamento e le 
 questioni tuttora aperte.\n\n\nJack Drescher. È uno psichiatra e psicoana
 lista con uno studio privato a New York City professore presso la Columbia
  University e il New York College.\n\nMembro del comitato dell’OMS incar
 icato di curare parte dell’ICD-11\, revisore del DSM-5 dell'APA su disor
 dini sessuali e identità di genere. Membro del Comitato scientifico per l
 a revisione del PDM-2. 2° ed.\n\nAutore di molti libri che trattano di ge
 nere\, sessualità\, salute e salute mentale delle comunità LGBT\, testim
 one esperto in casi legali riguardanti i diritti LGBT in California\, New 
 Jersey e New York.\n\nPer iscriversi cliccare qui:\nIscrizione singola €
 36\,89 (+ iva 22%) per un totale di €45\n\nGratuito\, con prenotazione o
 bbligatoria per gli studenti e per gli iscritti ad eventi di formazione se
 ssuologica Giunti Psychometrics di questa sezione: www.giuntios.it/sezione
 -sessuologia/
ATTACH;FMTTYPE=image/jpeg:https://centroilponte.com/wp-content/uploads/201
 8/09/drescher1.jpg
CATEGORIES:Seminario
LOCATION:Centro il Ponte\, via Scipione Ammirato\, 37\, Firenze\, 50136\, I
 talia
GEO:43.7704074;11.278145499999937
X-APPLE-STRUCTURED-LOCATION;VALUE=URI;X-ADDRESS=via Scipione Ammirato\, 37\
 , Firenze\, 50136\, Italia;X-APPLE-RADIUS=100;X-TITLE=Centro il Ponte:geo:
 43.7704074,11.278145499999937
END:VEVENT
BEGIN:VTIMEZONE
TZID:Europe/Rome
X-LIC-LOCATION:Europe/Rome
BEGIN:DAYLIGHT
DTSTART:20180325T030000
TZOFFSETFROM:+0100
TZOFFSETTO:+0200
TZNAME:CEST
END:DAYLIGHT
END:VTIMEZONE
END:VCALENDAR