BEGIN:VCALENDAR
VERSION:2.0
PRODID:-//wp-events-plugin.com//6.6.3//EN
TZID:Europe/Rome
X-WR-TIMEZONE:Europe/Rome
BEGIN:VEVENT
UID:23@centroilponte.com
DTSTART;TZID=Europe/Rome:20180704T190000
DTEND;TZID=Europe/Rome:20180704T203000
DTSTAMP:20180612T170753Z
URL:https://centroilponte.com/eventi/il-piacere-femminile-eros-e-amore-sec
 ondo-lei/
SUMMARY:Il piacere femminile: la sessualità in amore secondo lei
DESCRIPTION:Dal desiderio all'eccitazione\, dall'orgasmo all'autoerotismo\,
  dai disturbi sessuali al piacere come libera forma d'identità\, tanti sa
 ranno i temi trattati\, utili anche agli uomini interessati\, a conoscere 
 l'universo femminile.
ATTACH;FMTTYPE=image/jpeg:https://centroilponte.com/wp-content/uploads/201
 8/05/66942d-2.jpg
CATEGORIES:Dibattito,Seminario
LOCATION:Centro il Ponte\, via Scipione Ammirato\, 37\, Firenze\, 50136\, I
 talia
GEO:43.7704074;11.278145499999937
X-APPLE-STRUCTURED-LOCATION;VALUE=URI;X-ADDRESS=via Scipione Ammirato\, 37\
 , Firenze\, 50136\, Italia;X-APPLE-RADIUS=100;X-TITLE=Centro il Ponte:geo:
 43.7704074,11.278145499999937
END:VEVENT
BEGIN:VTIMEZONE
TZID:Europe/Rome
X-LIC-LOCATION:Europe/Rome
BEGIN:DAYLIGHT
DTSTART:20180325T030000
TZOFFSETFROM:+0100
TZOFFSETTO:+0200
TZNAME:CEST
END:DAYLIGHT
END:VTIMEZONE
END:VCALENDAR