BEGIN:VCALENDAR
VERSION:2.0
PRODID:-//wp-events-plugin.com//6.6.3//EN
TZID:Europe/Rome
X-WR-TIMEZONE:Europe/Rome
BEGIN:VEVENT
UID:32@centroilponte.com
DTSTART;TZID=Europe/Rome:20190306T190000
DTEND;TZID=Europe/Rome:20190306T203000
DTSTAMP:20190220T114948Z
URL:https://centroilponte.com/eventi/il-fenomeno-dello-scambismo-2/
SUMMARY:Il fenomeno dello scambismo
DESCRIPTION:In questo seminario organizzato dai tirocinanti del Centro il P
 onte verrà approfondito il tema dello scambio di coppia che sembra essere
  una pratica sempre più diffusa in Italia. Grazie alla letteratura scient
 ifica e al supporto di un ospite\, cercheremo di fare luce su un argomento
  ancora considerato un tabù.
ATTACH;FMTTYPE=image/jpeg:https://centroilponte.com/wp-content/uploads/201
 9/01/scambisti-1034186.jpg
CATEGORIES:Seminario
LOCATION:Centro il Ponte\, via Scipione Ammirato\, 37\, Firenze\, 50136\, I
 talia
GEO:43.7704074;11.278145499999937
X-APPLE-STRUCTURED-LOCATION;VALUE=URI;X-ADDRESS=via Scipione Ammirato\, 37\
 , Firenze\, 50136\, Italia;X-APPLE-RADIUS=100;X-TITLE=Centro il Ponte:geo:
 43.7704074,11.278145499999937
END:VEVENT
BEGIN:VTIMEZONE
TZID:Europe/Rome
X-LIC-LOCATION:Europe/Rome
BEGIN:STANDARD
DTSTART:20181028T020000
TZOFFSETFROM:+0200
TZOFFSETTO:+0100
TZNAME:CET
END:STANDARD
END:VTIMEZONE
END:VCALENDAR