BEGIN:VCALENDAR
VERSION:2.0
PRODID:-//wp-events-plugin.com//6.6.3//EN
TZID:Europe/Rome
X-WR-TIMEZONE:Europe/Rome
BEGIN:VEVENT
UID:35@centroilponte.com
DTSTART;TZID=Europe/Rome:20190404T183000
DTEND;TZID=Europe/Rome:20190411T203000
DTSTAMP:20190308T194633Z
URL:https://centroilponte.com/eventi/educazione-sessuale-per-genitori-con-
 figli-tra-12-17-anni/
SUMMARY:Educazione Sessuale per Genitori (di figli tra 12-17 anni)
DESCRIPTION:Affrontare con i propri figli temi come l’affettività e la s
 essualità\, può rappresentare un momento difficile per i genitori\; ci s
 i può sentire impreparati\, in imbarazzo ed inadeguati.\nInoltre la diffi
 coltà nella comunicazione\, il confronto con le proprie esperienze e conv
 inzioni possono non facilitare il supporto di cui i nostri figli hanno bis
 ogno.\nEppure un figlio adolescente alle prese con un corpo in trasformazi
 one ed una sessualità in divenire può rappresentare un‘occasione di cr
 escita anche per i genitori\, un momento di esplorazione e confronto con l
 a propria sessualità\, i tabù e le proprie paure.\n\nCon la collaboratri
 ce del Centro "Il Ponte"\, la Dottoressa Cristina Critelli (Ginecologa\, P
 sicoterapeuta\, Sessuologa) proponiamo due incontri di due ore ciascuno pe
 r fornire spunti di riflessione e semplici strumenti per affrontare questo
  momento con maggior serenità.\nGli incontri sono rivolti a genitori di r
 agazzi/e tra i 12 e 17 anni .\n\nI temi che verranno trattati:\n\n• La s
 essualità degli adolescenti: preoccupazioni e difficoltà\nConfronto tra 
 genitori\nRuolo genitoriale\n\n• Affettività e sessualità\nAccesso all
 e informazioni : ieri e oggi\nVantaggi e rischi delle differenze\n\n• In
 formazione e protezione: malattie a trasmissione sessuale e gravidanze.\n\
 n• Ginecologo e andrologo: importanza dell’informazione e della preven
 zione\n(eventuali informazioni su servizi territoriali)\n\nPrezzo compless
 ivo per i due incontri di due ore:\n45 € per il singolo partecipante\n70
  € a coppia genitoriale\n\nIl corso viene attivato per un minimo di 12 p
 artecipanti e un massimo di 20 per favorire l'interazione.\n\nPer informaz
 ioni e prenotazioni:\ninfo@centroilponte.com\ntel. 055.663992
ATTACH;FMTTYPE=image/jpeg:https://centroilponte.com/wp-content/uploads/201
 9/03/1-SEX-ED-evento.jpg
CATEGORIES:Corso di formazione
LOCATION:Centro il Ponte\, via Scipione Ammirato\, 37\, Firenze\, 50136\, I
 talia
GEO:43.7704074;11.278145499999937
X-APPLE-STRUCTURED-LOCATION;VALUE=URI;X-ADDRESS=via Scipione Ammirato\, 37\
 , Firenze\, 50136\, Italia;X-APPLE-RADIUS=100;X-TITLE=Centro il Ponte:geo:
 43.7704074,11.278145499999937
END:VEVENT
BEGIN:VTIMEZONE
TZID:Europe/Rome
X-LIC-LOCATION:Europe/Rome
BEGIN:DAYLIGHT
DTSTART:20190331T030000
TZOFFSETFROM:+0100
TZOFFSETTO:+0200
TZNAME:CEST
END:DAYLIGHT
END:VTIMEZONE
END:VCALENDAR