BEGIN:VCALENDAR
VERSION:2.0
PRODID:-//wp-events-plugin.com//6.6.3//EN
TZID:Europe/Rome
X-WR-TIMEZONE:Europe/Rome
BEGIN:VEVENT
UID:51@centroilponte.com
DTSTART;TZID=Europe/Rome;VALUE=DATE:20200727
DTEND;TZID=Europe/Rome;VALUE=DATE:20200728
DTSTAMP:20200716T134734Z
URL:https://centroilponte.com/eventi/corso-intensivo-in-sessualita-tipica-
 e-atipica-versione-fad/
SUMMARY:Corso intensivo in sessualità tipica e atipica versione FAD
DESCRIPTION:A grande richiesta dopo le 4 edizioni effettuate negli ultimi 2
  anni in presenza\, è finalmente disponibile la versione online fruibile 
 in FAD\, forma asincrona.\n\nQuesta versione è adatta per tutti quei pro
 fessionisti che vogliono formarsi e aggiornarsi in ambito sessuologia gene
 rale\, sessualità atipica e sessualità in popolazioni specifiche\, ma ch
 e hanno difficoltà a spostarsi o a essere liberi nei weekend di svolgimen
 to del corso.\n\nInoltre questa corso intensivo è anche valido come primo
  livello del Master in Sessuologia Clinica\, per coloro che intendono div
 entare sessuologi clinici (totale 3 livelli).\n\nIl corso sarà disponibil
 e a partire dal 27 luglio\, ma è possibile prenotarsi o acquistarlo in pr
 evendita ad un prezzo scontato.\n\nPer informazioni o prenotazioni scrivet
 e a segreteria.formazione@giuntipsy.com o andate qui.
ATTACH;FMTTYPE=image/jpeg:https://centroilponte.com/wp-content/uploads/202
 0/06/Corso-intensivo-in-sessuAlità-tipica-e-atipica2.jpg
END:VEVENT
BEGIN:VTIMEZONE
TZID:Europe/Rome
X-LIC-LOCATION:Europe/Rome
BEGIN:DAYLIGHT
DTSTART:20200329T030000
TZOFFSETFROM:+0100
TZOFFSETTO:+0200
TZNAME:CEST
END:DAYLIGHT
END:VTIMEZONE
END:VCALENDAR