BEGIN:VCALENDAR
VERSION:2.0
PRODID:-//wp-events-plugin.com//6.6.3//EN
TZID:Europe/Rome
X-WR-TIMEZONE:Europe/Rome
BEGIN:VEVENT
UID:19@centroilponte.com
DTSTART;TZID=Europe/Rome:20180929T090000
DTEND;TZID=Europe/Rome:20181125T180000
DTSTAMP:20180529T172401Z
URL:https://centroilponte.com/eventi/corso-intensivo-in-psicologia-e-psico
 patologia-del-comportamento-sessuale-tipico-e-atipico/
SUMMARY:Psicologia e psicopatologia del comportamento sessuale tipico e ati
 pico
DESCRIPTION:Elementi di sessuologia generale\, popolazioni specifiche\, pa
 rafilie e devianza\n\nFirenze\, 29 settembre - 25 novembre 2018 - Con poss
 ibilità di E.C.M.\n\nGiunti O.S. Psychometrics in collaborazione con l’
 equipe clinica del Centro Integrato di Sessuologia “Il Ponte” e con l
 ’Istituto Italiano di Sessuologia Integrata\, organizza il primo corso a
  livello nazionale di Alta Formazione Specialistica in Sessuologia Tipica 
 e Atipica.\n\nIl percorso formativo\, suddiviso in tre principali aree tem
 atiche (sessuologia generale\, sessualità delle popolazioni specifiche e 
 sessualità atipica)\, fornisce una conoscenza di base rigorosa e completa
  delle diverse caratteristiche che afferiscono al comportamento sessuale t
 ipico e atipico\, garantendo una visione d'insieme dei molteplici aspetti 
 che caratterizzano le diverse aree di intervento.\n\nNell’ambito della 
 sessuologia generale si fornirà il quadro di riferimento scientifico per 
 una migliore comprensione clinica e fisiologica della sessualità umana.\n
 \nNell’area inerente le popolazioni specifiche\, troppo spesso dimentica
 te o trattate superficialmente\, verrà approfondita e ampiamente trattata
  la sessualità all’interno del mondo LGBT (lesbiche\, gay\, bisessuali\
 , trans*)\, toccando anche aree più specifiche e marginali\, oltre che la
  sessualità nella popolazione di persone affette da disabilità e da infe
 zioni sessualmente trasmesse.\n\nL’area della sessualità atipica affron
 terà i comportamenti sessuali all’interno del continuum trasgressione 
 – parafilia – sex offender. Con l’apporto di esperti in materia\, v
 erranno presentate pratiche ormai “note”\, anche se spesso fraintese o
  confuse\, come quelle afferenti al mondo BDSM (bondage\, dominazione-disc
 iplina\, sadomasochismo)\, e verrà anche approfondito il tema delle relaz
 ioni poliamorose (etiche non monogamiche) e quello delle persone asessuali
 .\n\nAperto a laureati in medicina\, in psicologia e a psicoterapeuti che 
 vogliono acquisire competenze in campo sessuologico.\n\nIl percorso format
 ivo inizia il 29 settembre 2018 e termina lil 25 novembre 2018\, per un to
 tale di 60 ore articolate in 5 week-end. Per maggiori informazioni sulle 
 date del corso\, vedasi la sezione Calendario all'interno del programma.
  Per i sessuologi e i professionisti che abbiano già una formazione sess
 uologica\, è prevista la possibilità di iscrizione alle sole Aree 2 e 3 
 per una durata complessiva di 48 ore.\n\nCLICCA QUI PER TUTTE LE INFO E IS
 CRIZIONE\n\nProgramma completo
ATTACH;FMTTYPE=image/jpeg:https://centroilponte.com/wp-content/uploads/201
 8/05/Banner_corso_intensivo_sessuologia3.png
CATEGORIES:Corso di formazione
LOCATION:Centro il Ponte\, via Scipione Ammirato\, 37\, Firenze\, 50136\, I
 talia
GEO:43.7704074;11.278145499999937
X-APPLE-STRUCTURED-LOCATION;VALUE=URI;X-ADDRESS=via Scipione Ammirato\, 37\
 , Firenze\, 50136\, Italia;X-APPLE-RADIUS=100;X-TITLE=Centro il Ponte:geo:
 43.7704074,11.278145499999937
END:VEVENT
BEGIN:VTIMEZONE
TZID:Europe/Rome
X-LIC-LOCATION:Europe/Rome
BEGIN:DAYLIGHT
DTSTART:20180325T030000
TZOFFSETFROM:+0100
TZOFFSETTO:+0200
TZNAME:CEST
END:DAYLIGHT
BEGIN:STANDARD
DTSTART:20181028T020000
TZOFFSETFROM:+0200
TZOFFSETTO:+0100
TZNAME:CET
END:STANDARD
END:VTIMEZONE
END:VCALENDAR