BEGIN:VCALENDAR
VERSION:2.0
PRODID:-//wp-events-plugin.com//6.6.3//EN
TZID:Europe/Rome
X-WR-TIMEZONE:Europe/Rome
BEGIN:VEVENT
UID:55@centroilponte.com
DTSTART;TZID=Europe/Rome:20241114T183000
DTEND;TZID=Europe/Rome:20241114T203000
DTSTAMP:20241023T092810Z
URL:https://centroilponte.com/eventi/come-diventare-sessuologi/
SUMMARY:Cosa fa il sessuologo e come diventarlo
DESCRIPTION:Sei interessato/a a lavorare nell'ambito della sessuologia? Ti 
 incuriosisce questa disciplina\, ma hai bisogno di più informazioni per c
 apire se fa al caso tuo? Sei nel posto giusto.\n\nQuesto evento è rivolto
  a chi desidera intraprendere la professione di sessuologo o a chi ne è c
 urioso. Durante l'incontro\, verranno presentati i percorsi di studio e fo
 rmazione necessari per acquisire competenze in sessuologia\, una disciplin
 a che integra conoscenze di psicologia\, medicina e scienze sociali per co
 mprendere e affrontare problematiche legate alla sessualità umana.\n\nIni
 zieremo vedendo chi è il sessuologo e in cosa consiste la sua figura prof
 essionale: quali competenze utilizza nella pratica clinica\, con quali fig
 ure si interfaccia e in quali ambiti può operare. Vedremo poi quale è l'
 iter formativo da fare per diventare sessuologi\, a partire dalla laurea f
 ino ai corsi di specializzazione. Per concludere parleremo di un caso clin
 ico per poi lasciare spazio alle domande e considerazioni dei partecipanti
 .\n\nIndicato per studenti e laureandi di psicologia e medicina\, psicolog
 i psicoterapeuti psichiatri urologi ginecologia endocrinologi e tutte le f
 igure che ruotano alla salute e alle relazioni di aiuto.
ATTACH;FMTTYPE=image/jpeg:https://centroilponte.com/wp-content/uploads/202
 4/10/Sexy-Specs-Dr-Jean-Milburn.jpg
END:VEVENT
BEGIN:VTIMEZONE
TZID:Europe/Rome
X-LIC-LOCATION:Europe/Rome
BEGIN:STANDARD
DTSTART:20241027T020000
TZOFFSETFROM:+0200
TZOFFSETTO:+0100
TZNAME:CET
END:STANDARD
END:VTIMEZONE
END:VCALENDAR