BEGIN:VCALENDAR
VERSION:2.0
PRODID:-//wp-events-plugin.com//6.6.3//EN
TZID:Europe/Rome
X-WR-TIMEZONE:Europe/Rome
BEGIN:VEVENT
UID:38@centroilponte.com
DTSTART;TZID=Europe/Rome:20190513T163000
DTEND;TZID=Europe/Rome:20190603T183000
DTSTAMP:20190415T151620Z
URL:https://centroilponte.com/eventi/ciclo-di-webinar-sulla-dipendenza-ses
 suale-e-il-cybersesso/
SUMMARY:Ciclo di webinar sulla Dipendenza sessuale e il cybersesso
DESCRIPTION:Ciclo di webinar sulla Dipendenza sessuale e il cybersesso\n\n\
 n\n"A tu per tu con l'esperto" - a cura di Davide Dèttore\n\nIl ciclo si 
 struttura nei seguenti webinar:\n\n	13 maggio ore 16.30: Fenomenologia\, 
 fattori di rischio e inquadramento diagnostico della dipendenza sessuale e
  da cybersesso\;\n	27 maggio ore 16.30: Teorie eziopatogenetiche e tratta
 mento della dipendenza sessuale e da cybersesso\;\n	3 giugno ore 16.30: T
 rattamento della dipendenza sessuale e da cybersesso con orientamento pedo
 filico.\n\n\nIl ciclo di webinar introduce i più recenti contributi relat
 ivi alla dipendenza sessuale e da cybersesso\, affrontando le problematich
 e relative all’inquadramento\, alle ipotesi eziologiche e alle proposte 
 di trattamento che si riferiscono alle polimorfe manifestazioni di tali co
 ndizioni\, interessanti ma complesse.\nObiettivi\nIl ciclo di webinar è m
 irato all'acquisizione di conoscenze relative a:\n\n	I nuovi inquadramenti
  degli stati di ipersessualità\, in relazione al concetto di dipendenza s
 essuale.\n	La fenomenologia delle della dipendenza sessuale e da cybersess
 o.\n	Fattori di rischio nei minori e negli adulti.\n	Comorbilità e conseg
 uenze a breve/lungo termine in adulti e adolescenti e nei familiari.\n	Le 
 teorie eziologiche.\n	I lineamenti degli interventi trattamentali a second
 a che la dipendenza sessuale a carattere pedofilico o meno.\n\nDurata\nOgn
 i webinar ha durata di 2 ore: 1 ore e 40 minuti di lezione e 20 minuti di 
 domande e risposte con il docente.\n\n\n\nProgramma\n\n13 maggio 2019: Fen
 omenologia\, fattori di rischio e inquadramento diagnostico della dipenden
 za sessuale e da cybersesso \n\n27 maggio 2019: Teorie eziopatogenetiche e
  trattamento della dipendenza sessuale e da cybersesso\n\n3 giugno 2019: T
 rattamento della dipendenza sessuale e da cybersesso con orientamento pedo
 filico\n\n\n\n\n\nCalendario\n\n\n\nWebinar\nData\nOrario\n\n\nFenomenolog
 ia\, fattori di rischio e inquadramento diagnostico della dipendenza sessu
 ale e da cybersesso\n13 maggio 2019\n16:30 - 18.30\n\n\nTeorie eziopatogen
 etiche e trattamento della dipendenza sessuale e da cybersesso\n27 maggio 
 2019\n16:30 - 18.30\n\n\nTrattamento della dipendenza sessuale e da cybers
 esso con orientamento pedofilico\n3 giugno 2019\n16:30 - 18.30\n\n\n\nDoce
 nte\nDavide Dèttore. Psicologo\, Psicoterapeuta\, Professore associato d
 i Psicologia Clinica\, Presidente del Corso di Laurea Magistrale in Psicol
 ogia Clinica e della Salute e Neuropsicologia\, Docente di Psicologia e Ps
 icopatologia del Comportamento Sessuale\, Dipartimento di Scienze della Sa
 lute\, Università degli Studi di Firenze.\nDestinatari e accreditamenti\n
 I webinar sono rivolti a psicologi\, psicoterapeuti e medici.\n\nIl webi
 nar del 13 maggio "Fenomenologia\, fattori di rischio e inquadramento diag
 nostico della dipendenza sessuale e da cybersesso" può essere frequentato
  anche da studenti di psicologia.\n\nLa partecipazione al ciclo completo d
 ei 3 webinar rilascia 9 crediti ECM.\nModalità di partecipazione\nUna vo
 lta acquistato il webinar riceverai un'e-mail con le indicazioni per colle
 garti alla piattaforma gotowebinar dalla quale potrai seguire la diretta.\
 n\nI webinar possono essere seguiti sia in diretta che in registrata. Entr
 o 48 ore dalla diretta riceverai una email con il link per poter vedere la
  registrazione dei webinar quando e quante volte vorrai.\nSei uno studente
  di psicologia?\nPartecipa al webinar Fenomenologia\, fattori di rischio e
  inquadramento diagnostico della dipendenza sessuale e da cybersesso che s
 i terrà il 13 maggio 2019 alle ore 16.30.\nVai alla pagina del webinar\nQ
 uote di partecipazione\nSconto valido fino al 23 aprile 2019\n\n	Iscrizion
 e al ciclo completo di 3 webinar €125* anziché €152\n	Iscrizione al 
 solo al webinar del 13 maggio (riservato agli studenti) €35 (+ iva 22%) 
 per un totale di €42\,7 anziché €38 + (iva 22%)\n\n*Esente IVA art. 
 10 com. 20\nModalità di iscrizione\n\n	Online compilando il modulo di isc
 rizione ed effettuando il pagamento con carta di credito.\n	Online compila
 ndo il modulo di iscrizione ed inserendo gli estremi del pagamento effettu
 ato anticipatamente tramite bonifico bancario (Bonifico bancario intestato
  a Giunti Psychometrics S.r.l.\, BNL Ag. 2 Firenze\, C/C 2777\, Cod. IBAN
  IT57U0100502802000000002777).\n	Online compilando il modulo di iscrizione
  ed effettuando il pagamento con carta del docente.\n\nLa scadenza delle i
 scrizioni è il 13 maggio 2019.\n\nIn caso di annullamento del corso la qu
 ota versata sarà rimborsata salvo cause di forza maggiore. In caso di man
 cata partecipazione dell’iscritto per motivi non imputabili a Giunti Psy
 chometrics la quota non potrà essere rimborsata. Attenzione\, gli acqui
 sti effettuati con la carta del docente non sono rimborsabili con denaro. 
 Possono essere rimborsati solo con un buono di pari valore per l’acquist
 o di materiale previsto nella normativa del bonus.\n\nLINK DIRETTO ALLA RE
 GISTRAZIONE\n\nhttps://www.giuntios.it/corsi-e-eventi/corso/ciclo-di-webin
 ar-sulla-dipendenza-sessuale-e-il-cybersesso\n\n
ATTACH;FMTTYPE=image/jpeg:https://centroilponte.com/wp-content/uploads/201
 9/04/webinar.jpg
CATEGORIES:Corso di formazione
END:VEVENT
BEGIN:VTIMEZONE
TZID:Europe/Rome
X-LIC-LOCATION:Europe/Rome
BEGIN:DAYLIGHT
DTSTART:20190331T030000
TZOFFSETFROM:+0100
TZOFFSETTO:+0200
TZNAME:CEST
END:DAYLIGHT
END:VTIMEZONE
END:VCALENDAR