BEGIN:VCALENDAR
VERSION:2.0
PRODID:-//wp-events-plugin.com//6.6.3//EN
TZID:Europe/Rome
X-WR-TIMEZONE:Europe/Rome
BEGIN:VEVENT
UID:33@centroilponte.com
DTSTART;TZID=Europe/Rome:20190403T190000
DTEND;TZID=Europe/Rome:20190403T203000
DTSTAMP:20190220T115117Z
URL:https://centroilponte.com/eventi/bondage/
SUMMARY:Bondage: legami d'amore
DESCRIPTION:Cosa c'è di intrigante nel legare e farsi legare? Che cosa acc
 ade all'interno della nostra psiche nel momento in cui veniamo immobilizza
 ti? Oggi questa pratica appare sempre più frequentemente in libri\, film\
 , tv e anche nei racconti dei nostri pazienti\, ma in realtà sono davvero
  poche le notizie corrette che riceviamo.\n\nIn questa serata\, patrocinat
 a dal CIS (Centro Italiano di Sessuologia)\, esploreremo insieme i signifi
 cati dietro il bondage giapponese - chiamato più correttamente kinbaku - 
 insieme ad Andrea\, il rope artist de La quarta corda\, che condividerà l
 a sua esperienza come insegnante e performer di bondage giapponese\; a seg
 uire spazio per domande e riflessioni e dibattito con i sessuologi e profe
 ssionisti del Centro.
ATTACH;FMTTYPE=image/jpeg:https://centroilponte.com/wp-content/uploads/201
 9/01/tecniche-bondage.jpg
CATEGORIES:Seminario
LOCATION:Centro il Ponte\, via Scipione Ammirato\, 37\, Firenze\, 50136\, I
 talia
GEO:43.7704088;11.278197800000044
X-APPLE-STRUCTURED-LOCATION;VALUE=URI;X-ADDRESS=via Scipione Ammirato\, 37\
 , Firenze\, 50136\, Italia;X-APPLE-RADIUS=100;X-TITLE=Centro il Ponte:geo:
 43.7704088,11.278197800000044
END:VEVENT
BEGIN:VTIMEZONE
TZID:Europe/Rome
X-LIC-LOCATION:Europe/Rome
BEGIN:DAYLIGHT
DTSTART:20190331T030000
TZOFFSETFROM:+0100
TZOFFSETTO:+0200
TZNAME:CEST
END:DAYLIGHT
END:VTIMEZONE
END:VCALENDAR