BEGIN:VCALENDAR
VERSION:2.0
PRODID:-//wp-events-plugin.com//6.6.3//EN
TZID:Europe/Rome
X-WR-TIMEZONE:Europe/Rome
BEGIN:VEVENT
UID:15@centroilponte.com
DTSTART;TZID=Europe/Rome:20171005T190000
DTEND;TZID=Europe/Rome:20171005T203000
DTSTAMP:20170926T085616Z
URL:https://centroilponte.com/eventi/bondage-e-legami-damore/
SUMMARY:Bondage: legami d'amore
DESCRIPTION:Che cosa c'è di bello nel legare e farsi legare? Che cosa succ
 ede nella nostra psiche quando veniamo immobilizzati? Oggi questa pratica 
 è sempre più presente in libri\, film\, tv e anche nei racconti dei nost
 ri pazienti\; ma sono davvero poche le notizie corrette che ci arrivano.\n
 \nIn questa serata\, patrocinata dal CIS (Centro Italiano di Sessuologia)\
 , scopriremo che cos'è realmente il bondage giapponese - chiamato più co
 rrettamente kinbaku - insieme ad Andrea\, il rope artist de La quarta cord
 a\, che ci racconterà la sua esperienza come insegnante e performer di bo
 ndage giapponese condividendo esperienze e riflessioni\; a seguire dibatti
 to con i sessuologi del Centro.\n\n"Le corde sono un potente mezzo di comu
 nicazione. Insieme capiremo perché il bondage non è fatto di cinquanta s
 fumature ma di milioni di colori".\n\n\nPer me il kinbaku è un incontr
 o e una comunicazione intima che ci mette in contatto con la nostra pa
 rte più nascosta".\nLo svolgimento avverrà presso il Centro Integrato d
 i Sessuologia Clinica “IL PONTE” nel giorno di giovedì 5 ottobre da
 lle ore 19 alle ore 20.30. La partecipazione è aperta sia ai professioni
 sti che a tutte le persone interessate ad argomenti psico-sessuologici.\nL
 ’ingresso è gratuito. La prenotazione è obbligatoria all’indirizzo
  info@centroilponte.com o tel: 055-663992.\n- Bio -\nAndrea è il rope art
 ist de La quarta corda. Dopo essersi formato con importanti maestri europe
 i e giapponesi\, il suo interesse si è orientato verso il bondage giappon
 ese più tradizionale. Fondamentale è stato l’incontro con Akira Naka e
  Haruki Yukimura con cui ha studiato in Giappone.\nLo stile de La quarta c
 oda è basato sulla comunicazione attraverso le corde\; attraverso di esse
  è possibile creare di un rapporto di empatia e di scambio energetico con
  il partner\, un kinbaku molto coinvolgente basato sul controllo della per
 sona legata. Un profondo lavoro di elaborazione lo ha inoltre portato alla
  creazione di legature eleganti e originali\, in cui si uniscono tradizion
 e e gusto personale.\nPerforma e insegna in tutta Europa\, ospite di impor
 tanti manifestazioni quali Shibari Showparty\, Moscow knot\, Shibari dojo 
 Varsaw\, London Festival of Rope Art\, BoundCon\, Rome BDSM Conference\, B
 ound\, EURIX\, Ecole des cordes\, ecc.\nE’ uno degli esperti de La valig
 ia rossa\, un progetto sulla sessualità femminile.\nNel 2015 incontra col
 deyes che oggi è la sua compagna nelle corde e nella vita e con la quale 
 crea un sodalizio fondamentale per la sua crescita tecnica\, stilistica ed
  emotiva.\nNel 2017 lancia un nuovo progetto: Nawame\, il primo webbook su
 l bondage giapponese\, una risorsa completamente gratuita che raccoglie tu
 torial\, video e articoli sul mondo del kinbaku e sullo stile de La quarta
  corda.\nL'evento è stato patrocinato dal CIS (Centro Italiano di Sessuol
 ogia)\n
ATTACH;FMTTYPE=image/jpeg:https://centroilponte.com/wp-content/uploads/201
 7/07/Locandina-grande-Bondage-C.jpg
CATEGORIES:Seminario
LOCATION:Centro il Ponte\, via Scipione Ammirato\, 37\, Firenze\, 50136\, I
 talia
GEO:43.7704074;11.278145499999937
X-APPLE-STRUCTURED-LOCATION;VALUE=URI;X-ADDRESS=via Scipione Ammirato\, 37\
 , Firenze\, 50136\, Italia;X-APPLE-RADIUS=100;X-TITLE=Centro il Ponte:geo:
 43.7704074,11.278145499999937
END:VEVENT
BEGIN:VTIMEZONE
TZID:Europe/Rome
X-LIC-LOCATION:Europe/Rome
BEGIN:DAYLIGHT
DTSTART:20170326T030000
TZOFFSETFROM:+0100
TZOFFSETTO:+0200
TZNAME:CEST
END:DAYLIGHT
END:VTIMEZONE
END:VCALENDAR