BEGIN:VCALENDAR
VERSION:2.0
PRODID:-//wp-events-plugin.com//6.6.3//EN
TZID:Europe/Rome
X-WR-TIMEZONE:Europe/Rome
BEGIN:VEVENT
UID:57@centroilponte.com
DTSTART;TZID=Europe/Rome:20250116T190000
DTEND;TZID=Europe/Rome:20250116T203000
DTSTAMP:20260223T082029Z
URL:https://centroilponte.com/eventi/be-kinky-la-sessualita-fuori-dagli-sc
 hemi-tra-ricerca-gioco-e-trasgressione/
SUMMARY:Be Kinky! La sessualità fuori dagli schemi tra ricerca\, gioco e t
 rasgressione
DESCRIPTION:La sessualità kinky è più soddisfacente di quella vanilla?\n
 Chi fa BDSM ha una migliore comunicazione?\nChi è "vanilla" è più sex-n
 egative?\n\nAttraverso ricerche e curiosità (e con l'aiuto del pubblico) 
 andremo alla scoperta delle differenze tra la sessualità kinky e vanilla 
 e scopriremo come trasgredire possa arricchire l’esperienza e il benesse
 re sessuale.\n\nAndrea Farolfi è psicologo\, sessuologo e pedagogista.\n
 È socio dell’Istituto Italiano di Sessuologia Integrata e della Societ
 à Italiana di Terapia Cognitivo Comportamentale.\nAttivo come clinico e f
 ormatore\, collabora con il Centro integrato di sessuologia Il Ponte di Fi
 renze e con Giunti Psychometrics come ospite del Master in Sessuologia sci
 entifica.\nNel 2022 ha pubblicato "Be kinky! Dodici esperienze sensuali pe
 r un anno di piacere" per Giunti Editore.\nDa anni si occupa di divulgazio
 ne sui temi della sessualità e del consenso.\n\n&nbsp\;\n\nL'evento si sv
 olgerà in presenza presso il Centro Integrato di Sessuologia Clinica "I
 l Ponte"\, a Firenze in Via Scipione Ammirato 37.
ATTACH;FMTTYPE=image/jpeg:https://centroilponte.com/wp-content/uploads/202
 4/12/d_gelato-scaled.jpg
LOCATION:Centro Integrato di Sessuologia Clinica "Il Ponte"\, Via Scipione 
 Ammirato 37\, Firenze\, FI\, 50136\, Toscana\, Italia
GEO:43.770409;11.278198
X-APPLE-STRUCTURED-LOCATION;VALUE=URI;X-ADDRESS=Via Scipione Ammirato 37\, 
 Firenze\, FI\, 50136\, Toscana\, Italia;X-APPLE-RADIUS=100;X-TITLE=Centro 
 Integrato di Sessuologia Clinica \"Il Ponte\":geo:43.770409,11.278198
END:VEVENT
BEGIN:VTIMEZONE
TZID:Europe/Rome
X-LIC-LOCATION:Europe/Rome
BEGIN:STANDARD
DTSTART:20241027T020000
TZOFFSETFROM:+0200
TZOFFSETTO:+0100
TZNAME:CET
END:STANDARD
END:VTIMEZONE
END:VCALENDAR