BEGIN:VCALENDAR
VERSION:2.0
PRODID:-//wp-events-plugin.com//6.6.3//EN
TZID:Europe/Rome
X-WR-TIMEZONE:Europe/Rome
BEGIN:VEVENT
UID:11@centroilponte.com
DTSTART;TZID=Europe/Rome:20170427T190000
DTEND;TZID=Europe/Rome:20170427T203000
DTSTAMP:20170711T150909Z
URL:https://centroilponte.com/eventi/b-d-s-m-i-significati-delleros-estrem
 o/
SUMMARY:B.D.S.M. - I significati dell'eros estremo
DESCRIPTION:Il seminario ha lo scopo di fare luce sul fenomeno dell’erot
 ismo e della sessualità estrema\, attraverso l’approfondimento e la spi
 egazione delle pratiche di bondage\, dominazione/disciplina e del sadomaso
 chismo.\n\nQueste pratiche da un lato divenute di moda dall’altro viste 
 con sospetto stimolano l’immaginario e attraggono i media. In questa sed
 e verranno affrontati i significati\, i dubbi e allo stesso tempo le motiv
 azioni di tanto interesse.\n\n\n\nSarà ospite del seminario AYZAD (www.ay
 zad.com)\, uno dei massimi esperti di BDSM e sessualità insolita\, giorna
 lista e autore di libri sul tema fra cui: “BDSM -Guida per esploratori d
 ell’erotismo estremo”\, “I love BDSM”\, e “Peccati originali”.
 \n\nLo svolgimento avverrà presso il Centro Integrato di Sessuologia Cli
 nica “IL PONTE” nel giorno di giovedì 27 aprile dalle ore 19 alle o
 re 20.30. La partecipazione è aperta sia ai professionisti che a tutte l
 e persone interessate ad argomenti psico-sessuologici.\n\nL’ingresso è 
 gratuito.\n\nLa prenotazione è obbligatoria all’indirizzo info@centroi
 lponte.com o tel: 055-663992.
ATTACH;FMTTYPE=image/jpeg:https://centroilponte.com/wp-content/uploads/201
 7/04/banner-per-hp-sito1.jpg
CATEGORIES:Seminario
LOCATION:Centro il Ponte\, via Scipione Ammirato\, 37\, Firenze\, 50136\, I
 talia
GEO:43.7704074;11.278145499999937
X-APPLE-STRUCTURED-LOCATION;VALUE=URI;X-ADDRESS=via Scipione Ammirato\, 37\
 , Firenze\, 50136\, Italia;X-APPLE-RADIUS=100;X-TITLE=Centro il Ponte:geo:
 43.7704074,11.278145499999937
END:VEVENT
BEGIN:VTIMEZONE
TZID:Europe/Rome
X-LIC-LOCATION:Europe/Rome
BEGIN:DAYLIGHT
DTSTART:20170326T030000
TZOFFSETFROM:+0100
TZOFFSETTO:+0200
TZNAME:CEST
END:DAYLIGHT
END:VTIMEZONE
END:VCALENDAR