BEGIN:VCALENDAR
VERSION:2.0
PRODID:-//wp-events-plugin.com//6.6.3//EN
TZID:Europe/Rome
X-WR-TIMEZONE:Europe/Rome
BEGIN:VEVENT
UID:36@centroilponte.com
DTSTART;TZID=Europe/Rome:20190509T190000
DTEND;TZID=Europe/Rome:20190509T203000
DTSTAMP:20190318T170840Z
URL:https://centroilponte.com/eventi/asessualita/
SUMMARY:Alla scoperta dell'asessualità
DESCRIPTION:Che cos'è l'asessualità? Chi sono gli asessuali? Come si defi
 niscono?\n\nDurante questo seminario verrà presentato e approfondito il 
 tema dell'asessualità sia attraverso un'analisi della letteratura scienti
 fica attuale sia attraverso il contributo personale degli ospiti.\n\nInfa
 tti\, saranno presenti anche dei membri del Collettivo Asessuale "Carro d
 i Buoi" che ci racconteranno la loro esperienza e ci offriranno il loro p
 unto di vista sull'argomento.\n\nGli ospiti\n\nIl Collettivo Asessuale Car
 ro di buoi nasce a Firenze nel dicembre 2016\, con l’intento di creare u
 n punto di riferimento sul tema dell’asessualità\, orientamento sessual
 e ancora poco conosciuto e di fornire informazioni sia rivolte alle perso
 ne asessuali\, sia alle persone che cercano di capire cosa significhi esse
 re asessuale\, quale siano le difficoltà e gli interrogativi che una pers
 ona asessuale può porsi.\n\nIl seminario è gratuito ma la prenotazione 
 è obbligatoria: http://www.giuntios.it/alla-scoperta-dell-asessualita-2\
 n\nPer informazioni\ninfo@centroilponte.com\ntel. 055.663992\n\n&nbsp\;
ATTACH;FMTTYPE=image/jpeg:https://centroilponte.com/wp-content/uploads/201
 9/03/Copia-di-Alla-scoperta-dellasessualita.jpg
LOCATION:Centro Integrato di Sessuologia Il Ponte\, Via Scipione Ammirato\,
  37\, Firenze\, Firenze\, 50136\, Italia
GEO:43.7704088;11.278197800000044
X-APPLE-STRUCTURED-LOCATION;VALUE=URI;X-ADDRESS=Via Scipione Ammirato\, 37\
 , Firenze\, Firenze\, 50136\, Italia;X-APPLE-RADIUS=100;X-TITLE=Centro Int
 egrato di Sessuologia Il Ponte:geo:43.7704088,11.278197800000044
END:VEVENT
BEGIN:VTIMEZONE
TZID:Europe/Rome
X-LIC-LOCATION:Europe/Rome
BEGIN:DAYLIGHT
DTSTART:20190331T030000
TZOFFSETFROM:+0100
TZOFFSETTO:+0200
TZNAME:CEST
END:DAYLIGHT
END:VTIMEZONE
END:VCALENDAR